Workbook

Sheet PROPOSED BUDGET SUMMARY F.i
A1: 7
A2: KATSINA STATE MINISTRY FOR LOCAL GOVERNMENT AND EMIRATE AFFAIRS F.i
A3: JIBIA LOCAL GOVERNMENT COUNCIL – 2026 PROPOSED BUDGET SUMMARY
B5: Item | C5: 2025 Revised Budget N | D5: 2025 Budget Performance N | E5: 2026 proposed budget | F5: %
A7: A | B7: Opening Balance | C7: ='CONS. MASTER B. SUMMARY F.ii'!C6 -> 51000000 | E7: ='CONS. MASTER B. SUMMARY F.ii'!E6 -> 89216504
A8: B | B8: Recurrent Revenue | C8: =SUM(C9:C10) -> 7.5560112e+09 | D8: =SUM(D9:D10) -> 50264034 | E8: =SUM(E9:E10) -> 7.7696288e+09 | F8: =D8/C8*100 -> 0.66521916
B9: 1100 -LOCAL GOVERNMENT SHARE OF FAAC | C9: ='SUMMARY OF REVENUE F.iii'!C6 -> 7.4842785e+09 | D9: ='SUMMARY OF REVENUE F.iii'!D6 -> 0 | E9: ='SUMMARY OF REVENUE F.iii'!E6 -> 7.6691532e+09 | F9: =D9/C9*100 -> 0
B10: 1200-INDEPENDENT REVENUE | C10: ='SUMMARY OF REVENUE F.iii'!C16 -> 71732762 | D10: ='SUMMARY OF REVENUE F.iii'!D16 -> 50264034 | E10: ='SUMMARY OF REVENUE F.iii'!E16 -> 1.0047565e+08 | F10: =D10/C10*100 -> 70.071237
A12: D | B12: Recurrent Expenditure | C12: =SUM(C13:C14) -> 4.5584176e+09 | D12: 3.5192856e+09 | E12: =SUM(E13:E14) -> 3.9955675e+09 | F12: =D12/C12*100 -> 77.204106
B13: 2100 - PERSONNEL COST | C13: ='CONS. MASTER B. SUMMARY F.ii'!C19 -> 2.5846872e+09 | D13: ='CONS. MASTER B. SUMMARY F.ii'!D19 -> 2.997781e+09 | E13: ='CONS. MASTER B. SUMMARY F.ii'!E19 -> 2.8608101e+09 | F13: =D13/C13*100 -> 115.98235
B14: 2200 - OTHER RECURRENT COST | C14: ='CONS. MASTER B. SUMMARY F.ii'!C20 -> 1973730482 | D14: ='CONS. MASTER B. SUMMARY F.ii'!D20 -> 5.215046e+08 | E14: ='CONS. MASTER B. SUMMARY F.ii'!E20 -> 1.1347574e+09 | F14: =D14/C14*100 -> 25.166341
B16: Transfer to Capital Account
A18: C | B18: Capital Receipts | C18: =SUM(C19:C20) -> 0 | D18: =SUM(D19:D20) -> 0 | E18: =SUM(E19:E20) -> 0 | F18: =D18/C18*100 -> #DIV/0!
B19: 1300 - AID AND GRANTS | C19: ='SUMMARY OF REVENUE F.iii'!C118 -> 0 | D19: ='SUMMARY OF REVENUE F.iii'!D118 -> 0 | E19: ='SUMMARY OF REVENUE F.iii'!E118 -> 0 | F19: =D19/C19*100 -> #DIV/0!
B20: 1400- OTHER CAPITAL RECEIPTS | C20: ='CONS. MASTER B. SUMMARY F.ii'!C11 -> 0 | D20: ='CONS. MASTER B. SUMMARY F.ii'!D11 -> 0 | E20: ='CONS. MASTER B. SUMMARY F.ii'!E11 -> 0
A22: E | B22: 3200 - ASSETS (CAPITAL EXPENDITURE) | C22: ='CONS. MASTER B. SUMMARY F.ii'!C27 -> 2706550000 | D22: ='CONS. MASTER B. SUMMARY F.ii'!D27 -> 1.3257071e+09 | E22: ='CONS. MASTER B. SUMMARY F.ii'!E27 -> 3.8632778e+09 | F22: =D22/C22*100 -> 48.981436
A24: F | B24: Total Revenue | C24: =C7+C8+C18 -> 7.6070112e+09 | D24: =D7+D8+D18 -> 50264034 | E24: =E7+E8+E18 -> 7.8588453e+09 | F24: =D24/C24*100 -> 0.6607593
A25: G | B25: Total Expenditure | C25: =C12+C22 -> 7.2649676e+09 | D25: =D12+D22 -> 4.8449927e+09 | E25: =E12+E22 -> 7.8588453e+09 | F25: =D25/C25*100 -> 66.689804
B26: Budget Surplus /(Deficit) =A+B+C-D-E | E26: =E7+E8+E18-E12-E22 -> 0

Sheet CONS. MASTER B. SUMMARY F.ii
A2: KATSINA STATE MINISTRY FOR LOCAL GOVERNMENT AND EMIRATE AFFAIRS F.ii
A3: JIBIA LOCAL GOVERNMENT COUNCIL – 2026 CONSOLIDATED MASTER BUDGET SUMMARY
A5: S/N | B5: DETAILS | C5: 2025 Revised Budget N | D5: 2025 Budget Performance N | E5: 2026 Proposed Budget N
A6: 1 | B6: OPENING BALANCE | C6: 51000000 | E6: 89216504
A7: 2 | B7: RECEIPTS:
A8: 3 | B8: LG SHARE OF FAAC | C8: ='SUMMARY OF REVENUE F.iii'!C6 -> 7.4842785e+09 | D8: ='SUMMARY OF REVENUE F.iii'!D6 -> 0 | E8: ='SUMMARY OF REVENUE F.iii'!E6 -> 7.6691532e+09
A9: 4 | B9: INDEPENDENT REVENUE | C9: ='SUMMARY OF REVENUE F.iii'!C16 -> 71732762 | D9: ='SUMMARY OF REVENUE F.iii'!D16 -> 50264034 | E9: ='SUMMARY OF REVENUE F.iii'!E16 -> 1.0047565e+08
A10: 5 | B10: AID & GRANTS | C10: ='SUMMARY OF REVENUE F.iii'!C118 -> 0 | D10: ='SUMMARY OF REVENUE F.iii'!D118 -> 0 | E10: ='SUMMARY OF REVENUE F.iii'!E118 -> 0
A11: 6 | B11: OTHER CAPITAL RECEIPTS | C11: ='SUMMARY OF REVENUE F.iii'!C128 -> 0 | D11: ='SUMMARY OF REVENUE F.iii'!D128 -> 0 | E11: ='SUMMARY OF REVENUE F.iii'!E128 -> 0
A12: 7 | B12: TOTAL CURRENT YEAR RECEIPTS | C12: =SUM(C8:C11) -> 7.5560112e+09 | D12: =SUM(D8:D11) -> 50264034 | E12: =SUM(E8:E11) -> 7.7696288e+09
A13: 8 | B13: TOTAL PROJECTED FUNDS AVAILABLE | C13: =C6+C12 -> 7.6070112e+09 | D13: =D6+D12 -> 50264034 | E13: =E6+E12 -> 7.8588453e+09
A14: 9 | B14: EXPENDITURE:
A15: 10 | B15: A: RECURRENT DEBT
A16: 11 | B16: LOANS REPAYMENT | C16: 0 | D16: 0 | E16: 0
A17: 12 | B17: TOTAL RECURRENT DEBT | C17: =C16 -> 0 | D17: =D16 -> 0 | E17: =E16 -> 0
A18: 13 | B18: B: RECURRENT EXPENDITURE - NON-DEBT
A19: 14 | B19: PERSONNEL COSTS | C19: ='SUMMARY OF EXP F.iv'!C7 -> 2.5846872e+09 | D19: ='SUMMARY OF EXP F.iv'!D7 -> 2.997781e+09 | E19: ='SUMMARY OF EXP F.iv'!E7 -> 2.8608101e+09
A20: 15 | B20: OVERHEAD COSTS | C20: ='SUMMARY OF EXP F.iv'!C25 -> 1973730482 | D20: ='SUMMARY OF EXP F.iv'!D25 -> 5.215046e+08 | E20: ='SUMMARY OF EXP F.iv'!E25 -> 1.1347574e+09
A21: 16 | B21: TOTAL RECURRENT NON-DEBT | C21: =SUM(C19:C20) -> 4.5584176e+09 | D21: 3.5192856e+09 | E21: =SUM(E19:E20) -> 3.9955675e+09
A22: 17 | B22: TOTAL RECURRENT EXPENDITURE | C22: =C17+C21 -> 4.5584176e+09 | D22: =D17+D21 -> 3.5192856e+09 | E22: =E17+E21 -> 3.9955675e+09
A23: 18 | B23: C: CAPITAL EXPENDITURE BY SECTORS
A24: 19 | B24: ADMINISTRATION SECTOR | C24: ='PMD CAPITAL EXP F.xii'!D6 -> 725000000 | D24: ='PMD CAPITAL EXP F.xii'!E6 -> 475083650 | E24: ='PMD CAPITAL EXP F.xii'!F6 -> 275000000
A25: 20 | B25: ECONOMIC SECTOR | C25: ='AGRIC CAPITAL EXP F.xii'!D6+'FINANCE CAPITAL EXP F.xii'!D6+'WORKS CAPITAL EXP F.xii'!D6 -> 992000000 | D25: ='AGRIC CAPITAL EXP F.xii'!E6+'FINANCE CAPITAL EXP F.xii'!E6+'WORKS CAPITAL EXP F.xii'!E6 -> 3.9617463e+08 | E25: ='AGRIC CAPITAL EXP F.xii'!F6+'FINANCE CAPITAL EXP F.xii'!F6+'WORKS CAPITAL EXP F.xii'!F6 -> 3.026011e+09
A26: 21 | B26: SOCIAL SECTOR | C26: ='ESD CAPITAL EXP F.xii'!D6+'PHC CAPITAL EXP F.xii'!D6+'WATSAN CAPITAL EXP F.xii'!D6 -> 989550000 | D26: ='ESD CAPITAL EXP F.xii'!E6+'PHC CAPITAL EXP F.xii'!E6+'WATSAN CAPITAL EXP F.xii'!E6 -> 4.5444879e+08 | E26: ='ESD CAPITAL EXP F.xii'!F6+'PHC CAPITAL EXP F.xii'!F6+'WATSAN CAPITAL EXP F.xii'!F6 -> 5.6226684e+08
A27: 22 | B27: TOTAL CAPITAL EXPENDITURE | C27: =SUM(C24:C26) -> 2706550000 | D27: =SUM(D24:D26) -> 1.3257071e+09 | E27: =SUM(E24:E26) -> 3.8632778e+09
A28: 23 | B28: TOTAL EXPENDITURE (BUDGET SIZE) | C28: =C22+C27 -> 7.2649676e+09 | D28: =D22+D27 -> 4.8449927e+09 | E28: =E22+E27 -> 7.8588453e+09
A29: 24 | B29: BUDGET SURPLUS/(DEFICIT) | C29: =C13-C28 -> 3.4204357e+08 | E29: =E13-E28 -> 0
A30: 25 | B30: FINANCE DEFICIT BY:
A31: 26 | B31: INTERNAL LOANS/BORROWINGS
A32: 27 | B32: TOTAL LOANS | C32: =C31 -> 0 | E32: =E31 -> 0
A33: 28 | B33: CLOSING BALANCE | C33: =C13+C32-C28 -> 3.4204357e+08 | E33: =E13+E32-E28 -> 0

Sheet SUMMARY OF REVENUE F.iii
A1: KATSINA STATE MINISTRY FOR LOCAL GOVERNMENT AND EMIRATE AFFAIRS F.iii
A2: JIBIA LOCAL GOVERNMENT COUNCIL – 2026 BUDGET - SUMMARY OF REVENUE
A4: Code | B4: Economic | C4: 2025 Revised Budget N | D4: 2025 Budget Performance N | E4: 2026 Proposed Budget N
A5: 1 | B5: REVENUE | C5: =C6+C16+C118+C128 -> 7.5560112e+09 | D5: =D6+D16+D118+D128 -> 50264034 | E5: =E6+E16+E118+E128 -> 7.7696288e+09
A6: 11 | B6: GOVERNMENT SHARE OF FAAC | C6: =C7 -> 7.4842785e+09 | D6: =D7 -> 0 | E6: =E7 -> 7.6691532e+09
A7: 1101 | B7: GOVERNMENT SHARE OF FAAC | C7: =C8+C11+C13 -> 7.4842785e+09 | D7: =D8+D11+D13 -> 0 | E7: =E8+E11+E13 -> 7.6691532e+09
A8: 110101 | B8: LG GOVERNMENT SHARE OF STATUTORY REVENUE | C8: =SUM(C9:C10) -> 4.9955216e+09 | D8: =SUM(D9:D10) -> 0 | E8: =SUM(E9:E10) -> 6.0428951e+09
A9: 11010101 | B9: STATUTORY ALLOCATION: FAAC | C9: 4.940307e+09 | E9: 5.9766376e+09
A10: 11010101 | B10: STATUTORY ALLOCATION: STATE IGR | C10: 55214595 | E10: 66257514
A11: 110102 | B11: LG GOVERNMENT SHARE OF VAT | C11: =C12 -> 2488756873 | D11: =D12 -> 0 | E11: =E12 -> 1.6262581e+09
A12: 11010201 | B12: LG SHARE OF VAT | C12: 2488756873 | E12: 1.6262581e+09
A13: 110103 | B13: LG GOVERNMENT SHARE OF OTHER REVENUE | C13: =SUM(C14:C15) -> 0 | D13: =SUM(D14:D15) -> 0 | E13: =SUM(E14:E15) -> 0
A14: 11010301 | B14: EXCESS CRUDE
A15: 11010304 | B15: LG SPECIAL ALLOCATIONS
A16: 12 | B16: INDEPENDENT REVENUE | C16: =C17+C23 -> 71732762 | D16: =D17+D23 -> 50264034 | E16: =E17+E23 -> 1.0047565e+08
A17: 1201 | B17: TAX REVENUE | C17: =C18 -> 0 | D17: =D18 -> 3450230 | E17: =E18 -> 4000000
A18: 120103 | B18: OTHER TAXES | C18: =SUM(C19:C22) -> 0 | D18: =SUM(D19:D22) -> 3450230 | E18: =SUM(E19:E22) -> 4000000
A19: 12010301 | B19: STAMP DUTY
A20: 12010303 | B20: DEVELOPMENT TAX/LEVY
A21: 12010305 | B21: LIVESTOCK TAX | D21: 3450230 | E21: 4000000
A22: 12010306 | B22: OTHER SERVICE TAXES
A23: 12020000 | B23: NON-TAX REVENUE | C23: =C24+C53+C79+C81+C95+C105+C109+C111+C113+C116 -> 71732762 | D23: =D24+D53+D79+D81+D95+D105+D109+D111+D113+D116 -> 46813804 | E23: =E24+E53+E79+E81+E95+E105+E109+E111+E113+E116 -> 96475650
A24: 12020100 | B24: LICENCES – GENERAL | C24: =SUM(C25:C52) -> 9487000 | D24: =SUM(D25:D52) -> 12148500 | E24: =SUM(E25:E52) -> 18432200
A25: 12020105 | B25: RADIO/TELEVISION STATION LICENCES
A26: 12020109 | B26: REGISTATION OF VOLUNTARY ORGANIZATIONS | E26: 35000
A27: 12020111 | B27: BAKE HOUSE LICENCE | C27: 150000 | D27: 160000 | E27: 200000
A28: 12020113 | B28: BRICKMAKING, ETC LICENCE | C28: 100000 | D28: 120000 | E28: 150000
A29: 12020114 | B29: CART LICENCES | C29: 120000 | D29: 100000
A30: 12020115 | B30: DANE GUN LICENCES
A31: 12020116 | B31: CATTLE DEALER LICENCES | C31: 150000 | D31: 180000 | E31: 200000
A32: 12020117 | B32: DRIED FISH & MEAT LICENCES | E32: 85000
A33: 12020118 | B33: PET (DOG) LICENCES
A34: 12020119 | B34: FISHING PERMITS | D34: 85000 | E34: 150000
A35: 12020120 | B35: HAWKER'S PERMITS | C35: 200000 | D35: 200000 | E35: 400000
A36: 12020121 | B36: HUNTING PERMITS
A37: 12020122 | B37: PRODUCE BUYING LICENCES | D37: 5600000 | E37: 5950000
A38: 12020124 | B38: ABBATOIR/SLAUGHTER LICENSES | C38: 4200000
A39: 12020126 | B39: TRACTOR HIRING SERVICES
A40: 12020128 | B40: BOREHOLE DRILLING LICENCES | C40: 310000 | D40: 350000 | E40: 400200
A41: 12020129 | B41: POOL BETTING & CASINO LICENCES/GAMING | C41: 1400000 | D41: 1500000 | E41: 1600000
...

Sheet SUMMARY OF EXP F.iv
A1: KATSINA STATE MINISTRY FOR LOCAL GOVERNMENT AND EMIRATE AFFAIRS F.iv
A2: JIBIA LOCAL GOVERNMENT COUNCIL – 2026 BUDGET - SUMMARY OF EXPENDITURE
A4: Code | B4: Economic | C4: 2025 Revised Budget N | D4: 2025 Budget Performance N | E4: 2026 Proposed Budget N
B5: Total Expenditure | C5: =C6+C118 -> 7.2649676e+09 | D5: =D6+D118 -> 4.8449927e+09 | E5: =E6+E118 -> 7.8588453e+09
A6: 2 | B6: EXPENDITURES | C6: =C7+C25 -> 4.5584176e+09 | D6: 3.5192856e+09 | E6: =E7+E25 -> 3.9955675e+09
A7: 21 | B7: PERSONNEL COST | C7: =C8+C13+C20 -> 2.5846872e+09 | D7: =D8+D13+D20 -> 2.997781e+09 | E7: =E8+E13+E20 -> 2.8608101e+09
A8: 2101 | B8: SALARY | C8: =C9 -> 2.2573029e+09 | D8: =D9 -> 1.7964926e+09 | E8: =E9 -> 2.0539869e+09
A9: 210101 | B9: SALARIES AND WAGES | C9: =SUM(C10:C12) -> 2.2573029e+09 | D9: =SUM(D10:D12) -> 1.7964926e+09 | E9: =SUM(E10:E12) -> 2.0539869e+09
A10: 21010101 | B10: SALARY | C10: ='CHAIR PERSONNEL COST F.x'!C10+'SLT PERSONNEL COST F.x'!C10+'COUNCIL PERSONNEL COST F.x'!C10+'PMD PERSONNEL COST F.x'!C10+'AGRIC PERSONNEL COST F.x'!C10+'FINANCE PERSONNEL COST F.x'!C10+'WORKS PERSONNEL COST F.x'!C10+'ESD PERSONNEL COST F.x'!C10+'ESD PERSONNEL COST F.x'!C11+'PHC PERSONNEL COST F.x'!C10+'WATSAN PERSONNEL COST F.x'!C10+'TRADITIONAL PERSONNEL COST F.x'!C10 -> 2.1837609e+09 | D10: ='CHAIR PERSONNEL COST F.x'!D10+'SLT PERSONNEL COST F.x'!D10+'COUNCIL PERSONNEL COST F.x'!D10+'PMD PERSONNEL COST F.x'!D10+'AGRIC PERSONNEL COST F.x'!D10+'FINANCE PERSONNEL COST F.x'!D10+'WORKS PERSONNEL COST F.x'!D10+'ESD PERSONNEL COST F.x'!D10+'ESD PERSONNEL COST F.x'!D11+'PHC PERSONNEL COST F.x'!D10+'WATSAN PERSONNEL COST F.x'!D10+'TRADITIONAL PERSONNEL COST F.x'!D10 -> 1.7229505e+09 | E10: ='CHAIR PERSONNEL COST F.x'!E10+'SLT PERSONNEL COST F.x'!E10+'COUNCIL PERSONNEL COST F.x'!E10+'PMD PERSONNEL COST F.x'!E10+'AGRIC PERSONNEL COST F.x'!E10+'FINANCE PERSONNEL COST F.x'!E10+'WORKS PERSONNEL COST F.x'!E10+'ESD PERSONNEL COST F.x'!E10+'ESD PERSONNEL COST F.x'!E11+'PHC PERSONNEL COST F.x'!E10+'WATSAN PERSONNEL COST F.x'!E10+'TRADITIONAL PERSONNEL COST F.x'!E10 -> 1.9835512e+09
A11: 21010102 | B11: OVER TIME PAYMENTS | C11: ='CHAIR PERSONNEL COST F.x'!C11+'SLT PERSONNEL COST F.x'!C11+'COUNCIL PERSONNEL COST F.x'!C11+'PMD PERSONNEL COST F.x'!C11+'AGRIC PERSONNEL COST F.x'!C11+'FINANCE PERSONNEL COST F.x'!C11+'WORKS PERSONNEL COST F.x'!C11+'ESD PERSONNEL COST F.x'!C12+'PHC PERSONNEL COST F.x'!C11+'WATSAN PERSONNEL COST F.x'!C11+'TRADITIONAL PERSONNEL COST F.x'!C11 -> 0 | D11: ='CHAIR PERSONNEL COST F.x'!D11+'SLT PERSONNEL COST F.x'!D11+'COUNCIL PERSONNEL COST F.x'!D11+'PMD PERSONNEL COST F.x'!D11+'AGRIC PERSONNEL COST F.x'!D11+'FINANCE PERSONNEL COST F.x'!D11+'WORKS PERSONNEL COST F.x'!D11+'ESD PERSONNEL COST F.x'!D12+'PHC PERSONNEL COST F.x'!D11+'WATSAN PERSONNEL COST F.x'!D11+'TRADITIONAL PERSONNEL COST F.x'!D11 -> 0 | E11: ='CHAIR PERSONNEL COST F.x'!E11+'SLT PERSONNEL COST F.x'!E11+'COUNCIL PERSONNEL COST F.x'!E11+'PMD PERSONNEL COST F.x'!E11+'AGRIC PERSONNEL COST F.x'!E11+'FINANCE PERSONNEL COST F.x'!E11+'WORKS PERSONNEL COST F.x'!E11+'ESD PERSONNEL COST F.x'!E12+'PHC PERSONNEL COST F.x'!E11+'WATSAN PERSONNEL COST F.x'!E11+'TRADITIONAL PERSONNEL COST F.x'!E11 -> 0
A12: 21010103 | B12: CONSOLIDATED REVENUE FUND CHARGE- SALARIES | C12: ='CHAIR PERSONNEL COST F.x'!C12+'SLT PERSONNEL COST F.x'!C12+'COUNCIL PERSONNEL COST F.x'!C12+'PMD PERSONNEL COST F.x'!C12+'AGRIC PERSONNEL COST F.x'!C12+'FINANCE PERSONNEL COST F.x'!C12+'WORKS PERSONNEL COST F.x'!C12+'ESD PERSONNEL COST F.x'!C13+'PHC PERSONNEL COST F.x'!C12+'WATSAN PERSONNEL COST F.x'!C12+'TRADITIONAL PERSONNEL COST F.x'!C12 -> 73542095 | D12: ='CHAIR PERSONNEL COST F.x'!D12+'SLT PERSONNEL COST F.x'!D12+'COUNCIL PERSONNEL COST F.x'!D12+'PMD PERSONNEL COST F.x'!D12+'AGRIC PERSONNEL COST F.x'!D12+'FINANCE PERSONNEL COST F.x'!D12+'WORKS PERSONNEL COST F.x'!D12+'ESD PERSONNEL COST F.x'!D13+'PHC PERSONNEL COST F.x'!D12+'WATSAN PERSONNEL COST F.x'!D12+'TRADITIONAL PERSONNEL COST F.x'!D12 -> 73542095 | E12: ='CHAIR PERSONNEL COST F.x'!E12+'SLT PERSONNEL COST F.x'!E12+'COUNCIL PERSONNEL COST F.x'!E12+'PMD PERSONNEL COST F.x'!E12+'AGRIC PERSONNEL COST F.x'!E12+'FINANCE PERSONNEL COST F.x'!E12+'WORKS PERSONNEL COST F.x'!E12+'ESD PERSONNEL COST F.x'!E13+'PHC PERSONNEL COST F.x'!E12+'WATSAN PERSONNEL COST F.x'!E12+'TRADITIONAL PERSONNEL COST F.x'!E12 -> 70435712
A13: 2102 | B13: ALLOWANCES AND SOCIAL CONTRIBUTION | C13: =C14+C18 -> 161192108 | D13: =D14+D18 -> 1075096324 | E13: =E14+E18 -> 0
A14: 210201 | B14: ALLOWANCES | C14: =SUM(C15:C17) -> 161192108 | D14: =SUM(D15:D17) -> 1075096324 | E14: =SUM(E15:E17) -> 0
A15: 21020104 | B15: FURNITURE ALLOWANCE | C15: ='CHAIR PERSONNEL COST F.x'!C15+'SLT PERSONNEL COST F.x'!C15+'COUNCIL PERSONNEL COST F.x'!C15+'PMD PERSONNEL COST F.x'!C15+'AGRIC PERSONNEL COST F.x'!C15+'FINANCE PERSONNEL COST F.x'!C15+'WORKS PERSONNEL COST F.x'!C15+'ESD PERSONNEL COST F.x'!C16+'PHC PERSONNEL COST F.x'!C15+'WATSAN PERSONNEL COST F.x'!C15+'TRADITIONAL PERSONNEL COST F.x'!C15 -> 106192108 | D15: ='CHAIR PERSONNEL COST F.x'!D15+'SLT PERSONNEL COST F.x'!D15+'COUNCIL PERSONNEL COST F.x'!D15+'PMD PERSONNEL COST F.x'!D15+'AGRIC PERSONNEL COST F.x'!D15+'FINANCE PERSONNEL COST F.x'!D15+'WORKS PERSONNEL COST F.x'!D15+'ESD PERSONNEL COST F.x'!D16+'PHC PERSONNEL COST F.x'!D15+'WATSAN PERSONNEL COST F.x'!D15+'TRADITIONAL PERSONNEL COST F.x'!D15 -> 542622164 | E15: ='CHAIR PERSONNEL COST F.x'!E15+'SLT PERSONNEL COST F.x'!E15+'COUNCIL PERSONNEL COST F.x'!E15+'PMD PERSONNEL COST F.x'!E15+'AGRIC PERSONNEL COST F.x'!E15+'FINANCE PERSONNEL COST F.x'!E15+'WORKS PERSONNEL COST F.x'!E15+'ESD PERSONNEL COST F.x'!E16+'PHC PERSONNEL COST F.x'!E15+'WATSAN PERSONNEL COST F.x'!E15+'TRADITIONAL PERSONNEL COST F.x'!E15 -> 0
A16: 21020108 | B16: SEVERANCE ALLOWANCE | C16: ='CHAIR PERSONNEL COST F.x'!C16+'SLT PERSONNEL COST F.x'!C16+'COUNCIL PERSONNEL COST F.x'!C16+'PMD PERSONNEL COST F.x'!C16+'AGRIC PERSONNEL COST F.x'!C16+'FINANCE PERSONNEL COST F.x'!C15+'WORKS PERSONNEL COST F.x'!C16+'ESD PERSONNEL COST F.x'!C17+'PHC PERSONNEL COST F.x'!C16+'WATSAN PERSONNEL COST F.x'!C16+'TRADITIONAL PERSONNEL COST F.x'!C16 -> 55000000 | D16: ='CHAIR PERSONNEL COST F.x'!D16+'SLT PERSONNEL COST F.x'!D16+'COUNCIL PERSONNEL COST F.x'!D16+'PMD PERSONNEL COST F.x'!D16+'AGRIC PERSONNEL COST F.x'!D16+'FINANCE PERSONNEL COST F.x'!D15+'WORKS PERSONNEL COST F.x'!D16+'ESD PERSONNEL COST F.x'!D17+'PHC PERSONNEL COST F.x'!D16+'WATSAN PERSONNEL COST F.x'!D16+'TRADITIONAL PERSONNEL COST F.x'!D16 -> 532474160 | E16: ='CHAIR PERSONNEL COST F.x'!E16+'SLT PERSONNEL COST F.x'!E16+'COUNCIL PERSONNEL COST F.x'!E16+'PMD PERSONNEL COST F.x'!E16+'AGRIC PERSONNEL COST F.x'!E16+'FINANCE PERSONNEL COST F.x'!E16+'WORKS PERSONNEL COST F.x'!E16+'ESD PERSONNEL COST F.x'!E17+'PHC PERSONNEL COST F.x'!E16+'WATSAN PERSONNEL COST F.x'!E16+'TRADITIONAL PERSONNEL COST F.x'!E16 -> 0
A17: 21020109 | B17: OTHER ALLOWANCES | C17: ='CHAIR PERSONNEL COST F.x'!C17+'SLT PERSONNEL COST F.x'!C17+'COUNCIL PERSONNEL COST F.x'!C17+'PMD PERSONNEL COST F.x'!C17+'AGRIC PERSONNEL COST F.x'!C17+'FINANCE PERSONNEL COST F.x'!C17+'WORKS PERSONNEL COST F.x'!C17+'ESD PERSONNEL COST F.x'!C18+'PHC PERSONNEL COST F.x'!C17+'WATSAN PERSONNEL COST F.x'!C17+'TRADITIONAL PERSONNEL COST F.x'!C17 -> 0 | D17: ='CHAIR PERSONNEL COST F.x'!D17+'SLT PERSONNEL COST F.x'!D17+'COUNCIL PERSONNEL COST F.x'!D17+'PMD PERSONNEL COST F.x'!D17+'AGRIC PERSONNEL COST F.x'!D17+'FINANCE PERSONNEL COST F.x'!D17+'WORKS PERSONNEL COST F.x'!D17+'ESD PERSONNEL COST F.x'!D18+'PHC PERSONNEL COST F.x'!D17+'WATSAN PERSONNEL COST F.x'!D17+'TRADITIONAL PERSONNEL COST F.x'!D17 -> 0 | E17: ='CHAIR PERSONNEL COST F.x'!E17+'SLT PERSONNEL COST F.x'!E17+'COUNCIL PERSONNEL COST F.x'!E17+'PMD PERSONNEL COST F.x'!E17+'AGRIC PERSONNEL COST F.x'!E17+'FINANCE PERSONNEL COST F.x'!E17+'WORKS PERSONNEL COST F.x'!E17+'ESD PERSONNEL COST F.x'!E18+'PHC PERSONNEL COST F.x'!E17+'WATSAN PERSONNEL COST F.x'!E17+'TRADITIONAL PERSONNEL COST F.x'!E17 -> 0
A18: 210202 | B18: SOCIAL CONTRIBUTIONS | C18: =C19 -> 0 | D18: =D19 -> 0 | E18: =E19 -> 0
A19: 21020207 | B19: CONTRIBUTION BY LGAs | C19: ='CHAIR PERSONNEL COST F.x'!C19+'SLT PERSONNEL COST F.x'!C19+'COUNCIL PERSONNEL COST F.x'!C19+'PMD PERSONNEL COST F.x'!C19+'AGRIC PERSONNEL COST F.x'!C19+'FINANCE PERSONNEL COST F.x'!C19+'WORKS PERSONNEL COST F.x'!C19+'ESD PERSONNEL COST F.x'!C20+'PHC PERSONNEL COST F.x'!C19+'WATSAN PERSONNEL COST F.x'!C19+'TRADITIONAL PERSONNEL COST F.x'!C19 -> 0 | D19: ='CHAIR PERSONNEL COST F.x'!D19+'SLT PERSONNEL COST F.x'!D19+'COUNCIL PERSONNEL COST F.x'!D19+'PMD PERSONNEL COST F.x'!D19+'AGRIC PERSONNEL COST F.x'!D19+'FINANCE PERSONNEL COST F.x'!D19+'WORKS PERSONNEL COST F.x'!D19+'ESD PERSONNEL COST F.x'!D20+'PHC PERSONNEL COST F.x'!D19+'WATSAN PERSONNEL COST F.x'!D19+'TRADITIONAL PERSONNEL COST F.x'!D19 -> 0 | E19: ='CHAIR PERSONNEL COST F.x'!E19+'SLT PERSONNEL COST F.x'!E19+'COUNCIL PERSONNEL COST F.x'!E19+'PMD PERSONNEL COST F.x'!E19+'AGRIC PERSONNEL COST F.x'!E19+'FINANCE PERSONNEL COST F.x'!E19+'WORKS PERSONNEL COST F.x'!E19+'ESD PERSONNEL COST F.x'!E20+'PHC PERSONNEL COST F.x'!E19+'WATSAN PERSONNEL COST F.x'!E19+'TRADITIONAL PERSONNEL COST F.x'!E19 -> 0
A20: 210301 | B20: SOCIAL BENEFITS | C20: =SUM(C21:C23) -> 166192108 | D20: =SUM(D21:D23) -> 126192108 | E20: =SUM(E21:E23) -> 8.0682326e+08
A21: 21030101 | B21: GRATUITY | C21: ='CHAIR PERSONNEL COST F.x'!C21+'SLT PERSONNEL COST F.x'!C21+'COUNCIL PERSONNEL COST F.x'!C21+'PMD PERSONNEL COST F.x'!C21+'AGRIC PERSONNEL COST F.x'!C21+'FINANCE PERSONNEL COST F.x'!C21+'WORKS PERSONNEL COST F.x'!C21+'ESD PERSONNEL COST F.x'!C22+'PHC PERSONNEL COST F.x'!C21+'WATSAN PERSONNEL COST F.x'!C21+'TRADITIONAL PERSONNEL COST F.x'!C21 -> 51192108 | D21: ='CHAIR PERSONNEL COST F.x'!D21+'SLT PERSONNEL COST F.x'!D21+'COUNCIL PERSONNEL COST F.x'!D21+'PMD PERSONNEL COST F.x'!D21+'AGRIC PERSONNEL COST F.x'!D21+'FINANCE PERSONNEL COST F.x'!D21+'WORKS PERSONNEL COST F.x'!D21+'ESD PERSONNEL COST F.x'!D22+'PHC PERSONNEL COST F.x'!D21+'WATSAN PERSONNEL COST F.x'!D21+'TRADITIONAL PERSONNEL COST F.x'!D21 -> 51192108 | E21: ='CHAIR PERSONNEL COST F.x'!E21+'SLT PERSONNEL COST F.x'!E21+'COUNCIL PERSONNEL COST F.x'!E21+'PMD PERSONNEL COST F.x'!E21+'AGRIC PERSONNEL COST F.x'!E21+'FINANCE PERSONNEL COST F.x'!E21+'WORKS PERSONNEL COST F.x'!E21+'ESD PERSONNEL COST F.x'!E22+'PHC PERSONNEL COST F.x'!E21+'WATSAN PERSONNEL COST F.x'!E21+'TRADITIONAL PERSONNEL COST F.x'!E21 -> 450000000
A22: 21030102 | B22: PENSION | C22: ='CHAIR PERSONNEL COST F.x'!C22+'SLT PERSONNEL COST F.x'!C22+'COUNCIL PERSONNEL COST F.x'!C22+'PMD PERSONNEL COST F.x'!C22+'AGRIC PERSONNEL COST F.x'!C22+'FINANCE PERSONNEL COST F.x'!C22+'WORKS PERSONNEL COST F.x'!C22+'ESD PERSONNEL COST F.x'!C23+'PHC PERSONNEL COST F.x'!C22+'WATSAN PERSONNEL COST F.x'!C22+'TRADITIONAL PERSONNEL COST F.x'!C22 -> 115000000 | D22: ='CHAIR PERSONNEL COST F.x'!D22+'SLT PERSONNEL COST F.x'!D22+'COUNCIL PERSONNEL COST F.x'!D22+'PMD PERSONNEL COST F.x'!D22+'AGRIC PERSONNEL COST F.x'!D22+'FINANCE PERSONNEL COST F.x'!D22+'WORKS PERSONNEL COST F.x'!D22+'ESD PERSONNEL COST F.x'!D23+'PHC PERSONNEL COST F.x'!D22+'WATSAN PERSONNEL COST F.x'!D22+'TRADITIONAL PERSONNEL COST F.x'!D22 -> 75000000 | E22: ='CHAIR PERSONNEL COST F.x'!E22+'SLT PERSONNEL COST F.x'!E22+'COUNCIL PERSONNEL COST F.x'!E22+'PMD PERSONNEL COST F.x'!E22+'AGRIC PERSONNEL COST F.x'!E22+'FINANCE PERSONNEL COST F.x'!E22+'WORKS PERSONNEL COST F.x'!E22+'ESD PERSONNEL COST F.x'!E23+'PHC PERSONNEL COST F.x'!E22+'WATSAN PERSONNEL COST F.x'!E22+'TRADITIONAL PERSONNEL COST F.x'!E22 -> 3.3628339e+08
A23: 21030104 | B23: OTHER BENEFITS | C23: ='CHAIR PERSONNEL COST F.x'!C23+'SLT PERSONNEL COST F.x'!C23+'COUNCIL PERSONNEL COST F.x'!C23+'PMD PERSONNEL COST F.x'!C23+'AGRIC PERSONNEL COST F.x'!C23+'FINANCE PERSONNEL COST F.x'!C27+'WORKS PERSONNEL COST F.x'!C23+'ESD PERSONNEL COST F.x'!C24+'PHC PERSONNEL COST F.x'!C23+'WATSAN PERSONNEL COST F.x'!C23+'TRADITIONAL PERSONNEL COST F.x'!C23 -> 0 | D23: ='CHAIR PERSONNEL COST F.x'!D23+'SLT PERSONNEL COST F.x'!D23+'COUNCIL PERSONNEL COST F.x'!D23+'PMD PERSONNEL COST F.x'!D23+'AGRIC PERSONNEL COST F.x'!D23+'FINANCE PERSONNEL COST F.x'!D27+'WORKS PERSONNEL COST F.x'!D23+'ESD PERSONNEL COST F.x'!D24+'PHC PERSONNEL COST F.x'!D23+'WATSAN PERSONNEL COST F.x'!D23+'TRADITIONAL PERSONNEL COST F.x'!D23 -> 0 | E23: ='CHAIR PERSONNEL COST F.x'!E23+'SLT PERSONNEL COST F.x'!E23+'COUNCIL PERSONNEL COST F.x'!E23+'PMD PERSONNEL COST F.x'!E23+'AGRIC PERSONNEL COST F.x'!E23+'FINANCE PERSONNEL COST F.x'!E27+'WORKS PERSONNEL COST F.x'!E23+'ESD PERSONNEL COST F.x'!E24+'PHC PERSONNEL COST F.x'!E23+'WATSAN PERSONNEL COST F.x'!E23+'TRADITIONAL PERSONNEL COST F.x'!E23 -> 20539869
A25: 22 | B25: OTHER RECURRENT COSTS | C25: =C26+C103+C107+C112 -> 1973730482 | D25: =D26+D103+D107+D112 -> 5.215046e+08 | E25: =E26+E103+E107+E112 -> 1.1347574e+09
A26: 2202 | B26: OVERHEAD COST | C26: =C27+C32+C40+C54+C63+C66+C72+C81+C85+C88 -> 1484520690 | D26: =D27+D32+D40+D54+D63+D66+D72+D81+D85+D88 -> 2.9094156e+08 | E26: =E27+E32+E40+E54+E63+E66+E72+E81+E85+E88 -> 6.1033323e+08
A27: 220201 | B27: TRAVEL & TRANSPORT – GENERAL | C27: =SUM(C28:C31) -> 56000000 | D27: =SUM(D28:D31) -> 16750000 | E27: =SUM(E28:E31) -> 40608426
A28: 22020101 | B28: LOCAL TRAVEL & TRANSPORT: TRAINING | C28: ='CHAIR OVERHEAD COST F.xi'!C10+'SLT OVERHEAD COST F.xi'!C10+'COUNCIL OVERHEAD COST F.xi'!C10+'PMD OVERHEAD COST F.xi'!C10+'AGRIC OVERHEAD COST F.xi'!C10+'FINANCE OVERHEAD COST F.xi'!C10+'WORKS OVERHEAD COST F.xi'!C10+'ESD OVERHEAD COST F.xi'!C10+'PHC OVERHEAD COST F.xi'!C10+'WATSAN OVERHEAD COST F.xi'!C10+'TRADITIONAL OVERHEAD COST F.xi'!C10 -> 7500000 | D28: ='CHAIR OVERHEAD COST F.xi'!D10+'SLT OVERHEAD COST F.xi'!D10+'COUNCIL OVERHEAD COST F.xi'!D10+'PMD OVERHEAD COST F.xi'!D10+'AGRIC OVERHEAD COST F.xi'!D10+'FINANCE OVERHEAD COST F.xi'!D10+'WORKS OVERHEAD COST F.xi'!D10+'ESD OVERHEAD COST F.xi'!D10+'PHC OVERHEAD COST F.xi'!D10+'WATSAN OVERHEAD COST F.xi'!D10+'TRADITIONAL OVERHEAD COST F.xi'!D10 -> 5092000 | E28: ='CHAIR OVERHEAD COST F.xi'!E10+'SLT OVERHEAD COST F.xi'!E10+'COUNCIL OVERHEAD COST F.xi'!E10+'PMD OVERHEAD COST F.xi'!E10+'AGRIC OVERHEAD COST F.xi'!E10+'FINANCE OVERHEAD COST F.xi'!E10+'WORKS OVERHEAD COST F.xi'!E10+'ESD OVERHEAD COST F.xi'!E10+'PHC OVERHEAD COST F.xi'!E10+'WATSAN OVERHEAD COST F.xi'!E10+'TRADITIONAL OVERHEAD COST F.xi'!E10 -> 18900000
A29: 22020102 | B29: LOCAL TRAVEL & TRANSPORT: OTHERS | C29: ='CHAIR OVERHEAD COST F.xi'!C11+'SLT OVERHEAD COST F.xi'!C11+'COUNCIL OVERHEAD COST F.xi'!C11+'PMD OVERHEAD COST F.xi'!C11+'AGRIC OVERHEAD COST F.xi'!C11+'FINANCE OVERHEAD COST F.xi'!C11+'WORKS OVERHEAD COST F.xi'!C11+'ESD OVERHEAD COST F.xi'!C11+'PHC OVERHEAD COST F.xi'!C11+'WATSAN OVERHEAD COST F.xi'!C11+'TRADITIONAL OVERHEAD COST F.xi'!C11 -> 48500000 | D29: ='CHAIR OVERHEAD COST F.xi'!D11+'SLT OVERHEAD COST F.xi'!D11+'COUNCIL OVERHEAD COST F.xi'!D11+'PMD OVERHEAD COST F.xi'!D11+'AGRIC OVERHEAD COST F.xi'!D11+'FINANCE OVERHEAD COST F.xi'!D11+'WORKS OVERHEAD COST F.xi'!D11+'ESD OVERHEAD COST F.xi'!D11+'PHC OVERHEAD COST F.xi'!D11+'WATSAN OVERHEAD COST F.xi'!D11+'TRADITIONAL OVERHEAD COST F.xi'!D11 -> 11658000 | E29: ='CHAIR OVERHEAD COST F.xi'!E11+'SLT OVERHEAD COST F.xi'!E11+'COUNCIL OVERHEAD COST F.xi'!E11+'PMD OVERHEAD COST F.xi'!E11+'AGRIC OVERHEAD COST F.xi'!E11+'FINANCE OVERHEAD COST F.xi'!E11+'WORKS OVERHEAD COST F.xi'!E11+'ESD OVERHEAD COST F.xi'!E11+'PHC OVERHEAD COST F.xi'!E11+'WATSAN OVERHEAD COST F.xi'!E11+'TRADITIONAL OVERHEAD COST F.xi'!E11 -> 11708426
A30: 22020103 | B30: INTERNATIONAL TRAVEL & TRANSPORT: TRAINING | C30: ='CHAIR OVERHEAD COST F.xi'!C12+'SLT OVERHEAD COST F.xi'!C12+'COUNCIL OVERHEAD COST F.xi'!C12+'PMD OVERHEAD COST F.xi'!C12+'AGRIC OVERHEAD COST F.xi'!C12+'FINANCE OVERHEAD COST F.xi'!C12+'WORKS OVERHEAD COST F.xi'!C12+'ESD OVERHEAD COST F.xi'!C12+'PHC OVERHEAD COST F.xi'!C12+'WATSAN OVERHEAD COST F.xi'!C12+'TRADITIONAL OVERHEAD COST F.xi'!C12 -> 0 | D30: ='CHAIR OVERHEAD COST F.xi'!D12+'SLT OVERHEAD COST F.xi'!D12+'COUNCIL OVERHEAD COST F.xi'!D12+'PMD OVERHEAD COST F.xi'!D12+'AGRIC OVERHEAD COST F.xi'!D12+'FINANCE OVERHEAD COST F.xi'!D12+'WORKS OVERHEAD COST F.xi'!D12+'ESD OVERHEAD COST F.xi'!D12+'PHC OVERHEAD COST F.xi'!D12+'WATSAN OVERHEAD COST F.xi'!D12+'TRADITIONAL OVERHEAD COST F.xi'!D12 -> 0 | E30: ='CHAIR OVERHEAD COST F.xi'!E12+'SLT OVERHEAD COST F.xi'!E12+'COUNCIL OVERHEAD COST F.xi'!E12+'PMD OVERHEAD COST F.xi'!E12+'AGRIC OVERHEAD COST F.xi'!E12+'FINANCE OVERHEAD COST F.xi'!E12+'WORKS OVERHEAD COST F.xi'!E12+'ESD OVERHEAD COST F.xi'!E12+'PHC OVERHEAD COST F.xi'!E12+'WATSAN OVERHEAD COST F.xi'!E12+'TRADITIONAL OVERHEAD COST F.xi'!E12 -> 10000000
A31: 22020104 | B31: INTERNATIONAL TRAVEL & TRANSPORT: OTHERS | C31: ='CHAIR OVERHEAD COST F.xi'!C13+'SLT OVERHEAD COST F.xi'!C13+'COUNCIL OVERHEAD COST F.xi'!C13+'PMD OVERHEAD COST F.xi'!C13+'AGRIC OVERHEAD COST F.xi'!C13+'FINANCE OVERHEAD COST F.xi'!C13+'WORKS OVERHEAD COST F.xi'!C13+'ESD OVERHEAD COST F.xi'!C13+'PHC OVERHEAD COST F.xi'!C13+'WATSAN OVERHEAD COST F.xi'!C13+'TRADITIONAL OVERHEAD COST F.xi'!C13 -> 0 | D31: ='CHAIR OVERHEAD COST F.xi'!D13+'SLT OVERHEAD COST F.xi'!D13+'COUNCIL OVERHEAD COST F.xi'!D13+'PMD OVERHEAD COST F.xi'!D13+'AGRIC OVERHEAD COST F.xi'!D13+'FINANCE OVERHEAD COST F.xi'!D13+'WORKS OVERHEAD COST F.xi'!D13+'ESD OVERHEAD COST F.xi'!D13+'PHC OVERHEAD COST F.xi'!D13+'WATSAN OVERHEAD COST F.xi'!D13+'TRADITIONAL OVERHEAD COST F.xi'!D13 -> 0 | E31: ='CHAIR OVERHEAD COST F.xi'!E13+'SLT OVERHEAD COST F.xi'!E13+'COUNCIL OVERHEAD COST F.xi'!E13+'PMD OVERHEAD COST F.xi'!E13+'AGRIC OVERHEAD COST F.xi'!E13+'FINANCE OVERHEAD COST F.xi'!E13+'WORKS OVERHEAD COST F.xi'!E13+'ESD OVERHEAD COST F.xi'!E13+'PHC OVERHEAD COST F.xi'!E13+'WATSAN OVERHEAD COST F.xi'!E13+'TRADITIONAL OVERHEAD COST F.xi'!E13 -> 0
A32: 220202 | B32: UTILITIES – GENERAL | C32: =SUM(C33:C39) -> 24000000 | D32: =SUM(D33:D39) -> 24182289 | E32: =SUM(E33:E39) -> 0
A33: 22020201 | B33: ELECTRICITY CHARGES | C33: ='CHAIR OVERHEAD COST F.xi'!C15+'SLT OVERHEAD COST F.xi'!C15+'COUNCIL OVERHEAD COST F.xi'!C15+'PMD OVERHEAD COST F.xi'!C15+'AGRIC OVERHEAD COST F.xi'!C15+'FINANCE OVERHEAD COST F.xi'!C15+'WORKS OVERHEAD COST F.xi'!C15+'ESD OVERHEAD COST F.xi'!C15+'PHC OVERHEAD COST F.xi'!C15+'WATSAN OVERHEAD COST F.xi'!C15+'TRADITIONAL OVERHEAD COST F.xi'!C15 -> 24000000 | D33: ='CHAIR OVERHEAD COST F.xi'!D15+'SLT OVERHEAD COST F.xi'!D15+'COUNCIL OVERHEAD COST F.xi'!D15+'PMD OVERHEAD COST F.xi'!D15+'AGRIC OVERHEAD COST F.xi'!D15+'FINANCE OVERHEAD COST F.xi'!D15+'WORKS OVERHEAD COST F.xi'!D15+'ESD OVERHEAD COST F.xi'!D15+'PHC OVERHEAD COST F.xi'!D15+'WATSAN OVERHEAD COST F.xi'!D15+'TRADITIONAL OVERHEAD COST F.xi'!D15 -> 20000000 | E33: ='CHAIR OVERHEAD COST F.xi'!E15+'SLT OVERHEAD COST F.xi'!E15+'COUNCIL OVERHEAD COST F.xi'!E15+'PMD OVERHEAD COST F.xi'!E15+'AGRIC OVERHEAD COST F.xi'!E15+'FINANCE OVERHEAD COST F.xi'!E15+'WORKS OVERHEAD COST F.xi'!E15+'ESD OVERHEAD COST F.xi'!E15+'PHC OVERHEAD COST F.xi'!E15+'WATSAN OVERHEAD COST F.xi'!E15+'TRADITIONAL OVERHEAD COST F.xi'!E15 -> 0
A34: 22020202 | B34: TELEPHONE CHARGES | C34: ='CHAIR OVERHEAD COST F.xi'!C16+'SLT OVERHEAD COST F.xi'!C16+'COUNCIL OVERHEAD COST F.xi'!C16+'PMD OVERHEAD COST F.xi'!C16+'AGRIC OVERHEAD COST F.xi'!C16+'FINANCE OVERHEAD COST F.xi'!C16+'WORKS OVERHEAD COST F.xi'!C16+'ESD OVERHEAD COST F.xi'!C16+'PHC OVERHEAD COST F.xi'!C16+'WATSAN OVERHEAD COST F.xi'!C16+'TRADITIONAL OVERHEAD COST F.xi'!C16 -> 0 | D34: ='CHAIR OVERHEAD COST F.xi'!D16+'SLT OVERHEAD COST F.xi'!D16+'COUNCIL OVERHEAD COST F.xi'!D16+'PMD OVERHEAD COST F.xi'!D16+'AGRIC OVERHEAD COST F.xi'!D16+'FINANCE OVERHEAD COST F.xi'!D16+'WORKS OVERHEAD COST F.xi'!D16+'ESD OVERHEAD COST F.xi'!D16+'PHC OVERHEAD COST F.xi'!D16+'WATSAN OVERHEAD COST F.xi'!D16+'TRADITIONAL OVERHEAD COST F.xi'!D16 -> 0 | E34: ='CHAIR OVERHEAD COST F.xi'!E16+'SLT OVERHEAD COST F.xi'!E16+'COUNCIL OVERHEAD COST F.xi'!E16+'PMD OVERHEAD COST F.xi'!E16+'AGRIC OVERHEAD COST F.xi'!E16+'FINANCE OVERHEAD COST F.xi'!E16+'WORKS OVERHEAD COST F.xi'!E16+'ESD OVERHEAD COST F.xi'!E16+'PHC OVERHEAD COST F.xi'!E16+'WATSAN OVERHEAD COST F.xi'!E16+'TRADITIONAL OVERHEAD COST F.xi'!E16 -> 0
A35: 22020203 | B35: INTERNET ACCESS CHARGES | C35: ='CHAIR OVERHEAD COST F.xi'!C17+'SLT OVERHEAD COST F.xi'!C17+'COUNCIL OVERHEAD COST F.xi'!C17+'PMD OVERHEAD COST F.xi'!C17+'AGRIC OVERHEAD COST F.xi'!C17+'FINANCE OVERHEAD COST F.xi'!C17+'WORKS OVERHEAD COST F.xi'!C17+'ESD OVERHEAD COST F.xi'!C17+'PHC OVERHEAD COST F.xi'!C17+'WATSAN OVERHEAD COST F.xi'!C17+'TRADITIONAL OVERHEAD COST F.xi'!C17 -> 0 | D35: ='CHAIR OVERHEAD COST F.xi'!D17+'SLT OVERHEAD COST F.xi'!D17+'COUNCIL OVERHEAD COST F.xi'!D17+'PMD OVERHEAD COST F.xi'!D17+'AGRIC OVERHEAD COST F.xi'!D17+'FINANCE OVERHEAD COST F.xi'!D17+'WORKS OVERHEAD COST F.xi'!D17+'ESD OVERHEAD COST F.xi'!D17+'PHC OVERHEAD COST F.xi'!D17+'WATSAN OVERHEAD COST F.xi'!D17+'TRADITIONAL OVERHEAD COST F.xi'!D17 -> 0 | E35: ='CHAIR OVERHEAD COST F.xi'!E17+'SLT OVERHEAD COST F.xi'!E17+'COUNCIL OVERHEAD COST F.xi'!E17+'PMD OVERHEAD COST F.xi'!E17+'AGRIC OVERHEAD COST F.xi'!E17+'FINANCE OVERHEAD COST F.xi'!E17+'WORKS OVERHEAD COST F.xi'!E17+'ESD OVERHEAD COST F.xi'!E17+'PHC OVERHEAD COST F.xi'!E17+'WATSAN OVERHEAD COST F.xi'!E17+'TRADITIONAL OVERHEAD COST F.xi'!E17 -> 0
A36: 22020204 | B36: DSTV SUBSCRIPTION CHARGES | C36: ='CHAIR OVERHEAD COST F.xi'!C18+'SLT OVERHEAD COST F.xi'!C18+'COUNCIL OVERHEAD COST F.xi'!C18+'PMD OVERHEAD COST F.xi'!C18+'AGRIC OVERHEAD COST F.xi'!C18+'FINANCE OVERHEAD COST F.xi'!C18+'WORKS OVERHEAD COST F.xi'!C18+'ESD OVERHEAD COST F.xi'!C18+'PHC OVERHEAD COST F.xi'!C18+'WATSAN OVERHEAD COST F.xi'!C18+'TRADITIONAL OVERHEAD COST F.xi'!C18 -> 0 | D36: ='CHAIR OVERHEAD COST F.xi'!D18+'SLT OVERHEAD COST F.xi'!D18+'COUNCIL OVERHEAD COST F.xi'!D18+'PMD OVERHEAD COST F.xi'!D18+'AGRIC OVERHEAD COST F.xi'!D18+'FINANCE OVERHEAD COST F.xi'!D18+'WORKS OVERHEAD COST F.xi'!D18+'ESD OVERHEAD COST F.xi'!D18+'PHC OVERHEAD COST F.xi'!D18+'WATSAN OVERHEAD COST F.xi'!D18+'TRADITIONAL OVERHEAD COST F.xi'!D18 -> 0 | E36: ='CHAIR OVERHEAD COST F.xi'!E18+'SLT OVERHEAD COST F.xi'!E18+'COUNCIL OVERHEAD COST F.xi'!E18+'PMD OVERHEAD COST F.xi'!E18+'AGRIC OVERHEAD COST F.xi'!E18+'FINANCE OVERHEAD COST F.xi'!E18+'WORKS OVERHEAD COST F.xi'!E18+'ESD OVERHEAD COST F.xi'!E18+'PHC OVERHEAD COST F.xi'!E18+'WATSAN OVERHEAD COST F.xi'!E18+'TRADITIONAL OVERHEAD COST F.xi'!E18 -> 0
A37: 22020205 | B37: WATER RATES | D37: ='CHAIR OVERHEAD COST F.xi'!D19+'SLT OVERHEAD COST F.xi'!D19+'COUNCIL OVERHEAD COST F.xi'!D19+'PMD OVERHEAD COST F.xi'!D19+'AGRIC OVERHEAD COST F.xi'!D19+'FINANCE OVERHEAD COST F.xi'!D19+'WORKS OVERHEAD COST F.xi'!D19+'ESD OVERHEAD COST F.xi'!D19+'PHC OVERHEAD COST F.xi'!D19+'WATSAN OVERHEAD COST F.xi'!D19+'TRADITIONAL OVERHEAD COST F.xi'!D19 -> 4182289 | E37: ='CHAIR OVERHEAD COST F.xi'!E19+'SLT OVERHEAD COST F.xi'!E19+'COUNCIL OVERHEAD COST F.xi'!E19+'PMD OVERHEAD COST F.xi'!E19+'AGRIC OVERHEAD COST F.xi'!E19+'FINANCE OVERHEAD COST F.xi'!E19+'WORKS OVERHEAD COST F.xi'!E19+'ESD OVERHEAD COST F.xi'!E19+'PHC OVERHEAD COST F.xi'!E19+'WATSAN OVERHEAD COST F.xi'!E19+'TRADITIONAL OVERHEAD COST F.xi'!E19 -> 0
A38: 22020206 | B38: SEWAGE CHARGES | C38: ='CHAIR OVERHEAD COST F.xi'!C20+'SLT OVERHEAD COST F.xi'!C20+'COUNCIL OVERHEAD COST F.xi'!C20+'PMD OVERHEAD COST F.xi'!C20+'AGRIC OVERHEAD COST F.xi'!C20+'FINANCE OVERHEAD COST F.xi'!C20+'WORKS OVERHEAD COST F.xi'!C20+'ESD OVERHEAD COST F.xi'!C20+'PHC OVERHEAD COST F.xi'!C20+'WATSAN OVERHEAD COST F.xi'!C20+'TRADITIONAL OVERHEAD COST F.xi'!C20 -> 0 | D38: ='CHAIR OVERHEAD COST F.xi'!D20+'SLT OVERHEAD COST F.xi'!D20+'COUNCIL OVERHEAD COST F.xi'!D20+'PMD OVERHEAD COST F.xi'!D20+'AGRIC OVERHEAD COST F.xi'!D20+'FINANCE OVERHEAD COST F.xi'!D20+'WORKS OVERHEAD COST F.xi'!D20+'ESD OVERHEAD COST F.xi'!D20+'PHC OVERHEAD COST F.xi'!D20+'WATSAN OVERHEAD COST F.xi'!D20+'TRADITIONAL OVERHEAD COST F.xi'!D20 -> 0 | E38: ='CHAIR OVERHEAD COST F.xi'!E20+'SLT OVERHEAD COST F.xi'!E20+'COUNCIL OVERHEAD COST F.xi'!E20+'PMD OVERHEAD COST F.xi'!E20+'AGRIC OVERHEAD COST F.xi'!E20+'FINANCE OVERHEAD COST F.xi'!E20+'WORKS OVERHEAD COST F.xi'!E20+'ESD OVERHEAD COST F.xi'!E20+'PHC OVERHEAD COST F.xi'!E20+'WATSAN OVERHEAD COST F.xi'!E20+'TRADITIONAL OVERHEAD COST F.xi'!E20 -> 0
A39: 22020210 | B39: SOFTWARE CHARGES/ LICENCE RENEWAL | C39: ='CHAIR OVERHEAD COST F.xi'!C21+'SLT OVERHEAD COST F.xi'!C21+'COUNCIL OVERHEAD COST F.xi'!C21+'PMD OVERHEAD COST F.xi'!C21+'AGRIC OVERHEAD COST F.xi'!C21+'FINANCE OVERHEAD COST F.xi'!C21+'WORKS OVERHEAD COST F.xi'!C21+'ESD OVERHEAD COST F.xi'!C21+'PHC OVERHEAD COST F.xi'!C21+'WATSAN OVERHEAD COST F.xi'!C21+'TRADITIONAL OVERHEAD COST F.xi'!C21 -> 0 | D39: ='CHAIR OVERHEAD COST F.xi'!D21+'SLT OVERHEAD COST F.xi'!D21+'COUNCIL OVERHEAD COST F.xi'!D21+'PMD OVERHEAD COST F.xi'!D21+'AGRIC OVERHEAD COST F.xi'!D21+'FINANCE OVERHEAD COST F.xi'!D21+'WORKS OVERHEAD COST F.xi'!D21+'ESD OVERHEAD COST F.xi'!D21+'PHC OVERHEAD COST F.xi'!D21+'WATSAN OVERHEAD COST F.xi'!D21+'TRADITIONAL OVERHEAD COST F.xi'!D21 -> 0 | E39: ='CHAIR OVERHEAD COST F.xi'!E21+'SLT OVERHEAD COST F.xi'!E21+'COUNCIL OVERHEAD COST F.xi'!E21+'PMD OVERHEAD COST F.xi'!E21+'AGRIC OVERHEAD COST F.xi'!E21+'FINANCE OVERHEAD COST F.xi'!E21+'WORKS OVERHEAD COST F.xi'!E21+'ESD OVERHEAD COST F.xi'!E21+'PHC OVERHEAD COST F.xi'!E21+'WATSAN OVERHEAD COST F.xi'!E21+'TRADITIONAL OVERHEAD COST F.xi'!E21 -> 0
A40: 220203 | B40: MATERIALS & SUPPLIES – GENERAL | C40: =SUM(C41:C53) -> 272000000 | D40: =SUM(D41:D53) -> 29738125 | E40: =SUM(E41:E53) -> 24500000
A41: 22020301 | B41: OFFICE STATIONERIES/CONSUMABLES | C41: ='CHAIR OVERHEAD COST F.xi'!C23+'SLT OVERHEAD COST F.xi'!C23+'COUNCIL OVERHEAD COST F.xi'!C23+'PMD OVERHEAD COST F.xi'!C23+'AGRIC OVERHEAD COST F.xi'!C23+'FINANCE OVERHEAD COST F.xi'!C23+'WORKS OVERHEAD COST F.xi'!C23+'ESD OVERHEAD COST F.xi'!C23+'PHC OVERHEAD COST F.xi'!C23+'WATSAN OVERHEAD COST F.xi'!C23+'TRADITIONAL OVERHEAD COST F.xi'!C23 -> 22000000 | D41: ='CHAIR OVERHEAD COST F.xi'!D23+'SLT OVERHEAD COST F.xi'!D23+'COUNCIL OVERHEAD COST F.xi'!D23+'PMD OVERHEAD COST F.xi'!D23+'AGRIC OVERHEAD COST F.xi'!D23+'FINANCE OVERHEAD COST F.xi'!D23+'WORKS OVERHEAD COST F.xi'!D23+'ESD OVERHEAD COST F.xi'!D23+'PHC OVERHEAD COST F.xi'!D23+'WATSAN OVERHEAD COST F.xi'!D23+'TRADITIONAL OVERHEAD COST F.xi'!D23 -> 12588125 | E41: ='CHAIR OVERHEAD COST F.xi'!E23+'SLT OVERHEAD COST F.xi'!E23+'COUNCIL OVERHEAD COST F.xi'!E23+'PMD OVERHEAD COST F.xi'!E23+'AGRIC OVERHEAD COST F.xi'!E23+'FINANCE OVERHEAD COST F.xi'!E23+'WORKS OVERHEAD COST F.xi'!E23+'ESD OVERHEAD COST F.xi'!E23+'PHC OVERHEAD COST F.xi'!E23+'WATSAN OVERHEAD COST F.xi'!E23+'TRADITIONAL OVERHEAD COST F.xi'!E23 -> 8000000
A42: 22020302 | B42: BOOKS | C42: ='CHAIR OVERHEAD COST F.xi'!C24+'SLT OVERHEAD COST F.xi'!C24+'COUNCIL OVERHEAD COST F.xi'!C24+'PMD OVERHEAD COST F.xi'!C24+'AGRIC OVERHEAD COST F.xi'!C24+'FINANCE OVERHEAD COST F.xi'!C24+'WORKS OVERHEAD COST F.xi'!C24+'ESD OVERHEAD COST F.xi'!C24+'PHC OVERHEAD COST F.xi'!C24+'WATSAN OVERHEAD COST F.xi'!C24+'TRADITIONAL OVERHEAD COST F.xi'!C24 -> 7000000 | D42: ='CHAIR OVERHEAD COST F.xi'!D24+'SLT OVERHEAD COST F.xi'!D24+'COUNCIL OVERHEAD COST F.xi'!D24+'PMD OVERHEAD COST F.xi'!D24+'AGRIC OVERHEAD COST F.xi'!D24+'FINANCE OVERHEAD COST F.xi'!D24+'WORKS OVERHEAD COST F.xi'!D24+'ESD OVERHEAD COST F.xi'!D24+'PHC OVERHEAD COST F.xi'!D24+'WATSAN OVERHEAD COST F.xi'!D24+'TRADITIONAL OVERHEAD COST F.xi'!D24 -> 5000000 | E42: ='CHAIR OVERHEAD COST F.xi'!E24+'SLT OVERHEAD COST F.xi'!E24+'COUNCIL OVERHEAD COST F.xi'!E24+'PMD OVERHEAD COST F.xi'!E24+'AGRIC OVERHEAD COST F.xi'!E24+'FINANCE OVERHEAD COST F.xi'!E24+'WORKS OVERHEAD COST F.xi'!E24+'ESD OVERHEAD COST F.xi'!E24+'PHC OVERHEAD COST F.xi'!E24+'WATSAN OVERHEAD COST F.xi'!E24+'TRADITIONAL OVERHEAD COST F.xi'!E24 -> 2000000
...

Sheet SUMMARY OF EXP SECTOR F.v
A1: KATSINA STATE MINISTRY FOR LOCAL GOVERNMENT AND EMIRATE AFFAIRS F.v
A2: JIBIA LOCAL GOVERNMENT COUNCIL – 2026 BUDGET - SUMMARY OF EXPENDITURE BY SECTOR
A4: Code | B4: Sector | C4: Personnel cost N | D4: Overhead cost N | E4: Total Recurrent N | F4: Capital Expenditure N | G4: Total Expenditure N
A5: 01000000000 | B5: Administrative sector | C5: ='CHAIR PERSONNEL COST F.x'!E7+'SLT PERSONNEL COST F.x'!E7+'COUNCIL PERSONNEL COST F.x'!E7+'PMD PERSONNEL COST F.x'!E7 -> 140479524 | D5: ='CHAIR OVERHEAD COST F.xi'!E7+'SLT OVERHEAD COST F.xi'!E7+'COUNCIL OVERHEAD COST F.xi'!E7+'PMD OVERHEAD COST F.xi'!E7 -> 221600000 | E5: =C5+D5 -> 362079524 | F5: ='PMD CAPITAL EXP F.xii'!F6 -> 275000000 | G5: =E5+F5 -> 637079524
A6: 02000000000 | B6: Economic sector | C6: ='AGRIC PERSONNEL COST F.x'!E7+'FINANCE PERSONNEL COST F.x'!E7+'WORKS PERSONNEL COST F.x'!E7 -> 9.7857181e+08 | D6: ='AGRIC OVERHEAD COST F.xi'!E7+'FINANCE OVERHEAD COST F.xi'!E7+'WORKS OVERHEAD COST F.xi'!E7 -> 6.8404895e+08 | E6: =C6+D6 -> 1.6626208e+09 | F6: ='AGRIC CAPITAL EXP F.xii'!F6+'FINANCE CAPITAL EXP F.xii'!F6+'WORKS CAPITAL EXP F.xii'!F6 -> 3.026011e+09 | G6: =E6+F6 -> 4.6886317e+09
A7: 03000000000 | B7: Law and Justice | C7: 0 | D7: 0 | E7: =C7+D7 -> 0 | F7: 0 | G7: =E7+F7 -> 0
A8: 04000000000 | B8: Regional Sector | C8: 0 | D8: 0 | E8: =C8+D8 -> 0 | F8: 0 | G8: =E8+F8 -> 0
A9: 05000000000 | B9: Social Sector | C9: ='ESD PERSONNEL COST F.x'!E7+'PHC PERSONNEL COST F.x'!E7+'WATSAN PERSONNEL COST F.x'!E7+'TRADITIONAL PERSONNEL COST F.x'!E7 -> 1.7417588e+09 | D9: ='ESD OVERHEAD COST F.xi'!E7+'PHC OVERHEAD COST F.xi'!E7+'WATSAN OVERHEAD COST F.xi'!E7+'TRADITIONAL OVERHEAD COST F.xi'!E7 -> 2.2910843e+08 | E9: =C9+D9 -> 1.9708672e+09 | F9: ='ESD CAPITAL EXP F.xii'!F6+'PHC CAPITAL EXP F.xii'!F6+'WATSAN CAPITAL EXP F.xii'!F6 -> 5.6226684e+08 | G9: =E9+F9 -> 2.5331341e+09
B23: TOTAL | C23: =SUM(C5:C22) -> 2.8608101e+09 | D23: =SUM(D5:D22) -> 1.1347574e+09 | E23: =SUM(E5:E22) -> 3.9955675e+09 | F23: =SUM(F5:F22) -> 3.8632778e+09 | G23: =SUM(G5:G22) -> 7.8588453e+09

Sheet SUMMARY OF REC. EXP DEPT F.vi
A1: KATSINA STATE MINISTRY FOR LOCAL GOVERNMENT AND EMIRATE AFFAIRS F.vi
A2: JIBIA LOCAL GOVERNMENT COUNCIL – 2026 PROPOSED BUDGET - SUMMARY OF RECURRENT EXPENDITURE BY DEPARTMENT
A4: Code | B4: Department | C4: 2025 Revised Budget N | D4: 2025 Budget Performance N | E4: 2026 Proposed Budget N
A5: 011100100100 | B5: OFFICE OF THE LG CHAIRMAN | C5: ='CHAIR PERSONNEL COST F.x'!C7+'CHAIR OVERHEAD COST F.xi'!C7 -> 425937542 | D5: ='CHAIR PERSONNEL COST F.x'!D7+'CHAIR OVERHEAD COST F.xi'!D7 -> 1.0607228e+08 | E5: ='CHAIR PERSONNEL COST F.x'!E7+'CHAIR OVERHEAD COST F.xi'!E7 -> 165840908
A6: 011101300100 | B6: OFFICE OF THE LG SECRETARY | C6: ='SLT PERSONNEL COST F.x'!C7+'SLT OVERHEAD COST F.xi'!C7 -> 93151360 | D6: ='SLT PERSONNEL COST F.x'!D7+'SLT OVERHEAD COST F.xi'!D7 -> 75472560 | E6: ='SLT PERSONNEL COST F.x'!E7+'SLT OVERHEAD COST F.xi'!E7 -> 37107256
A7: 011200300100 | B7: THE COUNCIL | C7: ='COUNCIL PERSONNEL COST F.x'!C7+'COUNCIL OVERHEAD COST F.xi'!C7 -> 105837409 | D7: ='COUNCIL PERSONNEL COST F.x'!D7+'COUNCIL OVERHEAD COST F.xi'!D7 -> 92167409 | E7: ='COUNCIL PERSONNEL COST F.x'!E7+'COUNCIL OVERHEAD COST F.xi'!E7 -> 46087548
A8: 012500100100 | B8: PERSONNEL MANAGEMENT DEPARTMENT | C8: ='PMD PERSONNEL COST F.x'!C7+'PMD OVERHEAD COST F.xi'!C7 -> 289826886 | D8: ='PMD PERSONNEL COST F.x'!D7+'PMD OVERHEAD COST F.xi'!D7 -> 100454776 | E8: ='PMD PERSONNEL COST F.x'!E7+'PMD OVERHEAD COST F.xi'!E7 -> 113043812
A9: 021500100100 | B9: AGRICULTURE AND NATURAL RESOURCES | C9: ='AGRIC PERSONNEL COST F.x'!C7+'AGRIC OVERHEAD COST F.xi'!C7 -> 4.882509e+08 | D9: ='AGRIC PERSONNEL COST F.x'!D7+'AGRIC OVERHEAD COST F.xi'!D7 -> 1.3134295e+08 | E9: ='AGRIC PERSONNEL COST F.x'!E7+'AGRIC OVERHEAD COST F.xi'!E7 -> 1.079757e+08
A10: 022000100100 | B10: FINANCE DEPARTMENT | C10: ='FINANCE PERSONNEL COST F.x'!C7+'FINANCE OVERHEAD COST F.xi'!C7 -> 7.6075633e+08 | D10: ='FINANCE PERSONNEL COST F.x'!D7+'FINANCE OVERHEAD COST F.xi'!D7 -> 904985881 | E10: ='FINANCE PERSONNEL COST F.x'!E7+'FINANCE OVERHEAD COST F.xi'!E7 -> 1.5134256e+09
A11: 023400100100 | B11: WORKS DEPARTMENT | C11: ='WORKS PERSONNEL COST F.x'!C7+'WORKS OVERHEAD COST F.xi'!C7 -> 99670470 | D11: ='WORKS PERSONNEL COST F.x'!D7+'WORKS OVERHEAD COST F.xi'!D7 -> 65838156 | E11: ='WORKS PERSONNEL COST F.x'!E7+'WORKS OVERHEAD COST F.xi'!E7 -> 41219472
A12: 051700100100 | B12: EDUCATION AND SOCIAL SERVICES | C12: ='ESD PERSONNEL COST F.x'!C7+'ESD OVERHEAD COST F.xi'!C7 -> 1644403598 | D12: ='ESD PERSONNEL COST F.x'!D7+'ESD OVERHEAD COST F.xi'!D7 -> 1.4015077e+09 | E12: ='ESD PERSONNEL COST F.x'!E7+'ESD OVERHEAD COST F.xi'!E7 -> 1.4626022e+09
A13: 052100100100 | B13: PRIMARY HEALTH CARE DEPARTMENT | C13: ='PHC PERSONNEL COST F.x'!C7+'PHC OVERHEAD COST F.xi'!C7 -> 4.4131211e+08 | D13: ='PHC PERSONNEL COST F.x'!D7+'PHC OVERHEAD COST F.xi'!D7 -> 42190000 | E13: ='PHC PERSONNEL COST F.x'!E7+'PHC OVERHEAD COST F.xi'!E7 -> 331375313
A14: 053500100100 | B14: WATER AND SANITATION DEPARTMENT | C14: ='WATSAN PERSONNEL COST F.x'!C7+'WATSAN OVERHEAD COST F.xi'!C7 -> 1.6102477e+08 | D14: ='WATSAN PERSONNEL COST F.x'!D7+'WATSAN OVERHEAD COST F.xi'!D7 -> 87745965 | E14: ='WATSAN PERSONNEL COST F.x'!E7+'WATSAN OVERHEAD COST F.xi'!E7 -> 86652809
A15: 055100200100 | B15: TRADITIONAL RULERS OFFICE | C15: ='TRADITIONAL PERSONNEL COST F.x'!C7+'TRADITIONAL OVERHEAD COST F.xi'!C7 -> 58246278 | D15: ='TRADITIONAL PERSONNEL COST F.x'!D7+'TRADITIONAL OVERHEAD COST F.xi'!D7 -> 30225875 | E15: ='TRADITIONAL PERSONNEL COST F.x'!E7+'TRADITIONAL OVERHEAD COST F.xi'!E7 -> 90236893
B28: TOTAL | C28: =SUM(C5:C27) -> 4.5684176e+09 | D28: =SUM(D5:D27) -> 3.0380036e+09 | E28: =SUM(E5:E27) -> 3.9955675e+09

Sheet SUMMARY OF RECURRENT EXP F.vii
A1: KATSINA STATE MINISTRY FOR LOCAL GOVERNMENT AND EMIRATE AFFAIRS F.vii
A2: JIBIA LOCAL GOVERNMENT COUNCIL – 2026 BUDGET - SUMMARY OF RECURRENT EXPENDITURE
A4: Code | B4: Economic Items | C4: 2025 Revised Budget N | D4: 2025 Budget Performance N | E4: 2026 Proposed Budget N
B5: TOTAL RECURRENT EXPENDITURE | C5: =C6+C11 -> 4.5684176e+09 | D5: =D6+D11 -> 3.0380036e+09 | E5: =E6+E11 -> 3.9955675e+09
A6: 21 | B6: PERSONNEL COST | C6: =SUM(C7:C10) -> 2.5646872e+09 | D6: =SUM(D7:D10) -> 2.516499e+09 | E6: =SUM(E7:E10) -> 2.8608101e+09
A7: 21010100 | B7: SALARIES AND WAGES | C7: ='CHAIR PERSONNEL COST F.x'!C9+'SLT PERSONNEL COST F.x'!C9+'COUNCIL PERSONNEL COST F.x'!C9+'PMD PERSONNEL COST F.x'!C9+'AGRIC PERSONNEL COST F.x'!C9+'FINANCE PERSONNEL COST F.x'!C9+'WORKS PERSONNEL COST F.x'!C9+'ESD PERSONNEL COST F.x'!C9+'PHC PERSONNEL COST F.x'!C9+'WATSAN PERSONNEL COST F.x'!C9+'TRADITIONAL PERSONNEL COST F.x'!C9 -> 2.2573029e+09 | D7: ='CHAIR PERSONNEL COST F.x'!D9+'SLT PERSONNEL COST F.x'!D9+'COUNCIL PERSONNEL COST F.x'!D9+'PMD PERSONNEL COST F.x'!D9+'AGRIC PERSONNEL COST F.x'!D9+'FINANCE PERSONNEL COST F.x'!D9+'WORKS PERSONNEL COST F.x'!D9+'ESD PERSONNEL COST F.x'!D9+'PHC PERSONNEL COST F.x'!D9+'WATSAN PERSONNEL COST F.x'!D9+'TRADITIONAL PERSONNEL COST F.x'!D9 -> 1.7964926e+09 | E7: ='CHAIR PERSONNEL COST F.x'!E9+'SLT PERSONNEL COST F.x'!E9+'COUNCIL PERSONNEL COST F.x'!E9+'PMD PERSONNEL COST F.x'!E9+'AGRIC PERSONNEL COST F.x'!E9+'FINANCE PERSONNEL COST F.x'!E9+'WORKS PERSONNEL COST F.x'!E9+'ESD PERSONNEL COST F.x'!E9+'PHC PERSONNEL COST F.x'!E9+'WATSAN PERSONNEL COST F.x'!E9+'TRADITIONAL PERSONNEL COST F.x'!E9 -> 2.0539869e+09
A8: 21020100 | B8: ALLOWANCES | C8: ='CHAIR PERSONNEL COST F.x'!C14+'SLT PERSONNEL COST F.x'!C14+'COUNCIL PERSONNEL COST F.x'!C14+'PMD PERSONNEL COST F.x'!C14+'AGRIC PERSONNEL COST F.x'!C14+'FINANCE PERSONNEL COST F.x'!C14+'WORKS PERSONNEL COST F.x'!C14+'ESD PERSONNEL COST F.x'!C15+'PHC PERSONNEL COST F.x'!C14+'WATSAN PERSONNEL COST F.x'!C14+'TRADITIONAL PERSONNEL COST F.x'!C14 -> 141192108 | D8: ='CHAIR PERSONNEL COST F.x'!D14+'SLT PERSONNEL COST F.x'!D14+'COUNCIL PERSONNEL COST F.x'!D14+'PMD PERSONNEL COST F.x'!D14+'AGRIC PERSONNEL COST F.x'!D14+'FINANCE PERSONNEL COST F.x'!D14+'WORKS PERSONNEL COST F.x'!D14+'ESD PERSONNEL COST F.x'!D15+'PHC PERSONNEL COST F.x'!D14+'WATSAN PERSONNEL COST F.x'!D14+'TRADITIONAL PERSONNEL COST F.x'!D14 -> 593814272 | E8: ='CHAIR PERSONNEL COST F.x'!E14+'SLT PERSONNEL COST F.x'!E14+'COUNCIL PERSONNEL COST F.x'!E14+'PMD PERSONNEL COST F.x'!E14+'AGRIC PERSONNEL COST F.x'!E14+'FINANCE PERSONNEL COST F.x'!E14+'WORKS PERSONNEL COST F.x'!E14+'ESD PERSONNEL COST F.x'!E15+'PHC PERSONNEL COST F.x'!E14+'WATSAN PERSONNEL COST F.x'!E14+'TRADITIONAL PERSONNEL COST F.x'!E14 -> 0
A9: 21020200 | B9: SOCIAL CONTRIBUTIONS | C9: ='CHAIR PERSONNEL COST F.x'!C18+'SLT PERSONNEL COST F.x'!C18+'COUNCIL PERSONNEL COST F.x'!C18+'PMD PERSONNEL COST F.x'!C18+'AGRIC PERSONNEL COST F.x'!C18+'FINANCE PERSONNEL COST F.x'!C18+'WORKS PERSONNEL COST F.x'!C18+'ESD PERSONNEL COST F.x'!C19+'PHC PERSONNEL COST F.x'!C18+'WATSAN PERSONNEL COST F.x'!C18+'TRADITIONAL PERSONNEL COST F.x'!C18 -> 0 | D9: ='CHAIR PERSONNEL COST F.x'!D18+'SLT PERSONNEL COST F.x'!D18+'COUNCIL PERSONNEL COST F.x'!D18+'PMD PERSONNEL COST F.x'!D18+'AGRIC PERSONNEL COST F.x'!D18+'FINANCE PERSONNEL COST F.x'!D18+'WORKS PERSONNEL COST F.x'!D18+'ESD PERSONNEL COST F.x'!D19+'PHC PERSONNEL COST F.x'!D18+'WATSAN PERSONNEL COST F.x'!D18+'TRADITIONAL PERSONNEL COST F.x'!D18 -> 0 | E9: ='CHAIR PERSONNEL COST F.x'!E18+'SLT PERSONNEL COST F.x'!E18+'COUNCIL PERSONNEL COST F.x'!E18+'PMD PERSONNEL COST F.x'!E18+'AGRIC PERSONNEL COST F.x'!E18+'FINANCE PERSONNEL COST F.x'!E18+'WORKS PERSONNEL COST F.x'!E18+'ESD PERSONNEL COST F.x'!E19+'PHC PERSONNEL COST F.x'!E18+'WATSAN PERSONNEL COST F.x'!E18+'TRADITIONAL PERSONNEL COST F.x'!E18 -> 0
A10: 21030100 | B10: SOCIAL BENEFITS | C10: ='CHAIR PERSONNEL COST F.x'!C20+'SLT PERSONNEL COST F.x'!C20+'COUNCIL PERSONNEL COST F.x'!C20+'PMD PERSONNEL COST F.x'!C20+'AGRIC PERSONNEL COST F.x'!C20+'FINANCE PERSONNEL COST F.x'!C20+'WORKS PERSONNEL COST F.x'!C20+'ESD PERSONNEL COST F.x'!C21+'PHC PERSONNEL COST F.x'!C20+'WATSAN PERSONNEL COST F.x'!C20+'TRADITIONAL PERSONNEL COST F.x'!C20 -> 166192108 | D10: ='CHAIR PERSONNEL COST F.x'!D20+'SLT PERSONNEL COST F.x'!D20+'COUNCIL PERSONNEL COST F.x'!D20+'PMD PERSONNEL COST F.x'!D20+'AGRIC PERSONNEL COST F.x'!D20+'FINANCE PERSONNEL COST F.x'!D20+'WORKS PERSONNEL COST F.x'!D20+'ESD PERSONNEL COST F.x'!D21+'PHC PERSONNEL COST F.x'!D20+'WATSAN PERSONNEL COST F.x'!D20+'TRADITIONAL PERSONNEL COST F.x'!D20 -> 126192108 | E10: ='CHAIR PERSONNEL COST F.x'!E20+'SLT PERSONNEL COST F.x'!E20+'COUNCIL PERSONNEL COST F.x'!E20+'PMD PERSONNEL COST F.x'!E20+'AGRIC PERSONNEL COST F.x'!E20+'FINANCE PERSONNEL COST F.x'!E20+'WORKS PERSONNEL COST F.x'!E20+'ESD PERSONNEL COST F.x'!E21+'PHC PERSONNEL COST F.x'!E20+'WATSAN PERSONNEL COST F.x'!E20+'TRADITIONAL PERSONNEL COST F.x'!E20 -> 8.0682326e+08
A11: 22 | B11: OTHER RECURRENT | C11: =SUM(C12:C24) -> 2003730482 | D11: =SUM(D12:D24) -> 5.215046e+08 | E11: =SUM(E12:E24) -> 1.1347574e+09
A12: 22020100 | B12: TRAVEL & TRANSPORT – GENERAL | C12: ='CHAIR OVERHEAD COST F.xi'!C9+'SLT OVERHEAD COST F.xi'!C9+'COUNCIL OVERHEAD COST F.xi'!C9+'PMD OVERHEAD COST F.xi'!C9+'AGRIC OVERHEAD COST F.xi'!C9+'FINANCE OVERHEAD COST F.xi'!C9+'WORKS OVERHEAD COST F.xi'!C9+'ESD OVERHEAD COST F.xi'!C9+'PHC OVERHEAD COST F.xi'!C9+'WATSAN OVERHEAD COST F.xi'!C9+'TRADITIONAL OVERHEAD COST F.xi'!C9 -> 56000000 | D12: ='CHAIR OVERHEAD COST F.xi'!D9+'SLT OVERHEAD COST F.xi'!D9+'COUNCIL OVERHEAD COST F.xi'!D9+'PMD OVERHEAD COST F.xi'!D9+'AGRIC OVERHEAD COST F.xi'!D9+'FINANCE OVERHEAD COST F.xi'!D9+'WORKS OVERHEAD COST F.xi'!D9+'ESD OVERHEAD COST F.xi'!D9+'PHC OVERHEAD COST F.xi'!D9+'WATSAN OVERHEAD COST F.xi'!D9+'TRADITIONAL OVERHEAD COST F.xi'!D9 -> 16750000 | E12: ='CHAIR OVERHEAD COST F.xi'!E9+'SLT OVERHEAD COST F.xi'!E9+'COUNCIL OVERHEAD COST F.xi'!E9+'PMD OVERHEAD COST F.xi'!E9+'AGRIC OVERHEAD COST F.xi'!E9+'FINANCE OVERHEAD COST F.xi'!E9+'WORKS OVERHEAD COST F.xi'!E9+'ESD OVERHEAD COST F.xi'!E9+'PHC OVERHEAD COST F.xi'!E9+'WATSAN OVERHEAD COST F.xi'!E9+'TRADITIONAL OVERHEAD COST F.xi'!E9 -> 40608426
A13: 22020200 | B13: UTILITIES – GENERAL | C13: ='CHAIR OVERHEAD COST F.xi'!C14+'SLT OVERHEAD COST F.xi'!C14+'COUNCIL OVERHEAD COST F.xi'!C14+'PMD OVERHEAD COST F.xi'!C14+'AGRIC OVERHEAD COST F.xi'!C14+'FINANCE OVERHEAD COST F.xi'!C14+'WORKS OVERHEAD COST F.xi'!C14+'ESD OVERHEAD COST F.xi'!C14+'PHC OVERHEAD COST F.xi'!C14+'WATSAN OVERHEAD COST F.xi'!C14+'TRADITIONAL OVERHEAD COST F.xi'!C14 -> 54000000 | D13: ='CHAIR OVERHEAD COST F.xi'!D14+'SLT OVERHEAD COST F.xi'!D14+'COUNCIL OVERHEAD COST F.xi'!D14+'PMD OVERHEAD COST F.xi'!D14+'AGRIC OVERHEAD COST F.xi'!D14+'FINANCE OVERHEAD COST F.xi'!D14+'WORKS OVERHEAD COST F.xi'!D14+'ESD OVERHEAD COST F.xi'!D14+'PHC OVERHEAD COST F.xi'!D14+'WATSAN OVERHEAD COST F.xi'!D14+'TRADITIONAL OVERHEAD COST F.xi'!D14 -> 24182289 | E13: ='CHAIR OVERHEAD COST F.xi'!E14+'SLT OVERHEAD COST F.xi'!E14+'COUNCIL OVERHEAD COST F.xi'!E14+'PMD OVERHEAD COST F.xi'!E14+'AGRIC OVERHEAD COST F.xi'!E14+'FINANCE OVERHEAD COST F.xi'!E14+'WORKS OVERHEAD COST F.xi'!E14+'ESD OVERHEAD COST F.xi'!E14+'PHC OVERHEAD COST F.xi'!E14+'WATSAN OVERHEAD COST F.xi'!E14+'TRADITIONAL OVERHEAD COST F.xi'!E14 -> 0
A14: 22020300 | B14: MATERIALS & SUPPLIES – GENERAL | C14: ='CHAIR OVERHEAD COST F.xi'!C22+'SLT OVERHEAD COST F.xi'!C22+'COUNCIL OVERHEAD COST F.xi'!C22+'PMD OVERHEAD COST F.xi'!C22+'AGRIC OVERHEAD COST F.xi'!C22+'FINANCE OVERHEAD COST F.xi'!C22+'WORKS OVERHEAD COST F.xi'!C22+'ESD OVERHEAD COST F.xi'!C22+'PHC OVERHEAD COST F.xi'!C22+'WATSAN OVERHEAD COST F.xi'!C22+'TRADITIONAL OVERHEAD COST F.xi'!C22 -> 272000000 | D14: ='CHAIR OVERHEAD COST F.xi'!D22+'SLT OVERHEAD COST F.xi'!D22+'COUNCIL OVERHEAD COST F.xi'!D22+'PMD OVERHEAD COST F.xi'!D22+'AGRIC OVERHEAD COST F.xi'!D22+'FINANCE OVERHEAD COST F.xi'!D22+'WORKS OVERHEAD COST F.xi'!D22+'ESD OVERHEAD COST F.xi'!D22+'PHC OVERHEAD COST F.xi'!D22+'WATSAN OVERHEAD COST F.xi'!D22+'TRADITIONAL OVERHEAD COST F.xi'!D22 -> 29738125 | E14: ='CHAIR OVERHEAD COST F.xi'!E22+'SLT OVERHEAD COST F.xi'!E22+'COUNCIL OVERHEAD COST F.xi'!E22+'PMD OVERHEAD COST F.xi'!E22+'AGRIC OVERHEAD COST F.xi'!E22+'FINANCE OVERHEAD COST F.xi'!E22+'WORKS OVERHEAD COST F.xi'!E22+'ESD OVERHEAD COST F.xi'!E22+'PHC OVERHEAD COST F.xi'!E22+'WATSAN OVERHEAD COST F.xi'!E22+'TRADITIONAL OVERHEAD COST F.xi'!E22 -> 24500000
A15: 22020400 | B15: MAINTENANCE SERVICES – GENERAL | C15: ='CHAIR OVERHEAD COST F.xi'!C36+'SLT OVERHEAD COST F.xi'!C36+'COUNCIL OVERHEAD COST F.xi'!C36+'PMD OVERHEAD COST F.xi'!C36+'AGRIC OVERHEAD COST F.xi'!C36+'FINANCE OVERHEAD COST F.xi'!C36+'WORKS OVERHEAD COST F.xi'!C36+'ESD OVERHEAD COST F.xi'!C36+'PHC OVERHEAD COST F.xi'!C36+'WATSAN OVERHEAD COST F.xi'!C36+'TRADITIONAL OVERHEAD COST F.xi'!C36 -> 28500000 | D15: ='CHAIR OVERHEAD COST F.xi'!D36+'SLT OVERHEAD COST F.xi'!D36+'COUNCIL OVERHEAD COST F.xi'!D36+'PMD OVERHEAD COST F.xi'!D36+'AGRIC OVERHEAD COST F.xi'!D36+'FINANCE OVERHEAD COST F.xi'!D36+'WORKS OVERHEAD COST F.xi'!D36+'ESD OVERHEAD COST F.xi'!D36+'PHC OVERHEAD COST F.xi'!D36+'WATSAN OVERHEAD COST F.xi'!D36+'TRADITIONAL OVERHEAD COST F.xi'!D36 -> 22260337 | E15: ='CHAIR OVERHEAD COST F.xi'!E36+'SLT OVERHEAD COST F.xi'!E36+'COUNCIL OVERHEAD COST F.xi'!E36+'PMD OVERHEAD COST F.xi'!E36+'AGRIC OVERHEAD COST F.xi'!E36+'FINANCE OVERHEAD COST F.xi'!E36+'WORKS OVERHEAD COST F.xi'!E36+'ESD OVERHEAD COST F.xi'!E36+'PHC OVERHEAD COST F.xi'!E36+'WATSAN OVERHEAD COST F.xi'!E36+'TRADITIONAL OVERHEAD COST F.xi'!E36 -> 35100000
A16: 22020500 | B16: TRAINING – GENERAL | C16: ='CHAIR OVERHEAD COST F.xi'!C45+'SLT OVERHEAD COST F.xi'!C45+'COUNCIL OVERHEAD COST F.xi'!C45+'PMD OVERHEAD COST F.xi'!C45+'AGRIC OVERHEAD COST F.xi'!C45+'FINANCE OVERHEAD COST F.xi'!C45+'WORKS OVERHEAD COST F.xi'!C45+'ESD OVERHEAD COST F.xi'!C45+'PHC OVERHEAD COST F.xi'!C45+'WATSAN OVERHEAD COST F.xi'!C45+'TRADITIONAL OVERHEAD COST F.xi'!C45 -> 131000000 | D16: ='CHAIR OVERHEAD COST F.xi'!D45+'SLT OVERHEAD COST F.xi'!D45+'COUNCIL OVERHEAD COST F.xi'!D45+'PMD OVERHEAD COST F.xi'!D45+'AGRIC OVERHEAD COST F.xi'!D45+'FINANCE OVERHEAD COST F.xi'!D45+'WORKS OVERHEAD COST F.xi'!D45+'ESD OVERHEAD COST F.xi'!D45+'PHC OVERHEAD COST F.xi'!D45+'WATSAN OVERHEAD COST F.xi'!D45+'TRADITIONAL OVERHEAD COST F.xi'!D45 -> 25000000 | E16: ='CHAIR OVERHEAD COST F.xi'!E45+'SLT OVERHEAD COST F.xi'!E45+'COUNCIL OVERHEAD COST F.xi'!E45+'PMD OVERHEAD COST F.xi'!E45+'AGRIC OVERHEAD COST F.xi'!E45+'FINANCE OVERHEAD COST F.xi'!E45+'WORKS OVERHEAD COST F.xi'!E45+'ESD OVERHEAD COST F.xi'!E45+'PHC OVERHEAD COST F.xi'!E45+'WATSAN OVERHEAD COST F.xi'!E45+'TRADITIONAL OVERHEAD COST F.xi'!E45 -> 20000000
A17: 22020600 | B17: OTHER SERVICES – GENERAL | C17: ='CHAIR OVERHEAD COST F.xi'!C48+'SLT OVERHEAD COST F.xi'!C48+'COUNCIL OVERHEAD COST F.xi'!C48+'PMD OVERHEAD COST F.xi'!C48+'AGRIC OVERHEAD COST F.xi'!C48+'FINANCE OVERHEAD COST F.xi'!C48+'WORKS OVERHEAD COST F.xi'!C48+'ESD OVERHEAD COST F.xi'!C48+'PHC OVERHEAD COST F.xi'!C48+'WATSAN OVERHEAD COST F.xi'!C48+'TRADITIONAL OVERHEAD COST F.xi'!C48 -> 361000000 | D17: ='CHAIR OVERHEAD COST F.xi'!D48+'SLT OVERHEAD COST F.xi'!D48+'COUNCIL OVERHEAD COST F.xi'!D48+'PMD OVERHEAD COST F.xi'!D48+'AGRIC OVERHEAD COST F.xi'!D48+'FINANCE OVERHEAD COST F.xi'!D48+'WORKS OVERHEAD COST F.xi'!D48+'ESD OVERHEAD COST F.xi'!D48+'PHC OVERHEAD COST F.xi'!D48+'WATSAN OVERHEAD COST F.xi'!D48+'TRADITIONAL OVERHEAD COST F.xi'!D48 -> 51204743 | E17: ='CHAIR OVERHEAD COST F.xi'!E48+'SLT OVERHEAD COST F.xi'!E48+'COUNCIL OVERHEAD COST F.xi'!E48+'PMD OVERHEAD COST F.xi'!E48+'AGRIC OVERHEAD COST F.xi'!E48+'FINANCE OVERHEAD COST F.xi'!E48+'WORKS OVERHEAD COST F.xi'!E48+'ESD OVERHEAD COST F.xi'!E48+'PHC OVERHEAD COST F.xi'!E48+'WATSAN OVERHEAD COST F.xi'!E48+'TRADITIONAL OVERHEAD COST F.xi'!E48 -> 110000000
A18: 22020700 | B18: CONSULTING & PROFESSIONAL SERVICES – GEN | C18: ='CHAIR OVERHEAD COST F.xi'!C54+'SLT OVERHEAD COST F.xi'!C54+'COUNCIL OVERHEAD COST F.xi'!C54+'PMD OVERHEAD COST F.xi'!C54+'AGRIC OVERHEAD COST F.xi'!C54+'FINANCE OVERHEAD COST F.xi'!C54+'WORKS OVERHEAD COST F.xi'!C54+'ESD OVERHEAD COST F.xi'!C54+'PHC OVERHEAD COST F.xi'!C54+'WATSAN OVERHEAD COST F.xi'!C54+'TRADITIONAL OVERHEAD COST F.xi'!C54 -> 3600000 | D18: ='CHAIR OVERHEAD COST F.xi'!D54+'SLT OVERHEAD COST F.xi'!D54+'COUNCIL OVERHEAD COST F.xi'!D54+'PMD OVERHEAD COST F.xi'!D54+'AGRIC OVERHEAD COST F.xi'!D54+'FINANCE OVERHEAD COST F.xi'!D54+'WORKS OVERHEAD COST F.xi'!D54+'ESD OVERHEAD COST F.xi'!D54+'PHC OVERHEAD COST F.xi'!D54+'WATSAN OVERHEAD COST F.xi'!D54+'TRADITIONAL OVERHEAD COST F.xi'!D54 -> 0 | E18: ='CHAIR OVERHEAD COST F.xi'!E54+'SLT OVERHEAD COST F.xi'!E54+'COUNCIL OVERHEAD COST F.xi'!E54+'PMD OVERHEAD COST F.xi'!E54+'AGRIC OVERHEAD COST F.xi'!E54+'FINANCE OVERHEAD COST F.xi'!E54+'WORKS OVERHEAD COST F.xi'!E54+'ESD OVERHEAD COST F.xi'!E54+'PHC OVERHEAD COST F.xi'!E54+'WATSAN OVERHEAD COST F.xi'!E54+'TRADITIONAL OVERHEAD COST F.xi'!E54 -> 0
A19: 22020800 | B19: FUEL & LUBRICANTS – GENERAL | C19: ='CHAIR OVERHEAD COST F.xi'!C63+'SLT OVERHEAD COST F.xi'!C63+'COUNCIL OVERHEAD COST F.xi'!C63+'PMD OVERHEAD COST F.xi'!C63+'AGRIC OVERHEAD COST F.xi'!C63+'FINANCE OVERHEAD COST F.xi'!C63+'WORKS OVERHEAD COST F.xi'!C63+'ESD OVERHEAD COST F.xi'!C63+'PHC OVERHEAD COST F.xi'!C63+'WATSAN OVERHEAD COST F.xi'!C63+'TRADITIONAL OVERHEAD COST F.xi'!C63 -> 183000000 | D19: ='CHAIR OVERHEAD COST F.xi'!D63+'SLT OVERHEAD COST F.xi'!D63+'COUNCIL OVERHEAD COST F.xi'!D63+'PMD OVERHEAD COST F.xi'!D63+'AGRIC OVERHEAD COST F.xi'!D63+'FINANCE OVERHEAD COST F.xi'!D63+'WORKS OVERHEAD COST F.xi'!D63+'ESD OVERHEAD COST F.xi'!D63+'PHC OVERHEAD COST F.xi'!D63+'WATSAN OVERHEAD COST F.xi'!D63+'TRADITIONAL OVERHEAD COST F.xi'!D63 -> 51057069 | E19: ='CHAIR OVERHEAD COST F.xi'!E63+'SLT OVERHEAD COST F.xi'!E63+'COUNCIL OVERHEAD COST F.xi'!E63+'PMD OVERHEAD COST F.xi'!E63+'AGRIC OVERHEAD COST F.xi'!E63+'FINANCE OVERHEAD COST F.xi'!E63+'WORKS OVERHEAD COST F.xi'!E63+'ESD OVERHEAD COST F.xi'!E63+'PHC OVERHEAD COST F.xi'!E63+'WATSAN OVERHEAD COST F.xi'!E63+'TRADITIONAL OVERHEAD COST F.xi'!E63 -> 2224800.3
A20: 22020900 | B20: FINANCIAL CHARGES – GENERAL | C20: ='CHAIR OVERHEAD COST F.xi'!C67+'SLT OVERHEAD COST F.xi'!C67+'COUNCIL OVERHEAD COST F.xi'!C67+'PMD OVERHEAD COST F.xi'!C67+'AGRIC OVERHEAD COST F.xi'!C67+'FINANCE OVERHEAD COST F.xi'!C67+'WORKS OVERHEAD COST F.xi'!C67+'ESD OVERHEAD COST F.xi'!C67+'PHC OVERHEAD COST F.xi'!C67+'WATSAN OVERHEAD COST F.xi'!C67+'TRADITIONAL OVERHEAD COST F.xi'!C67 -> 800000 | D20: ='CHAIR OVERHEAD COST F.xi'!D67+'SLT OVERHEAD COST F.xi'!D67+'COUNCIL OVERHEAD COST F.xi'!D67+'PMD OVERHEAD COST F.xi'!D67+'AGRIC OVERHEAD COST F.xi'!D67+'FINANCE OVERHEAD COST F.xi'!D67+'WORKS OVERHEAD COST F.xi'!D67+'ESD OVERHEAD COST F.xi'!D67+'PHC OVERHEAD COST F.xi'!D67+'WATSAN OVERHEAD COST F.xi'!D67+'TRADITIONAL OVERHEAD COST F.xi'!D67 -> 750000 | E20: ='CHAIR OVERHEAD COST F.xi'!E67+'SLT OVERHEAD COST F.xi'!E67+'COUNCIL OVERHEAD COST F.xi'!E67+'PMD OVERHEAD COST F.xi'!E67+'AGRIC OVERHEAD COST F.xi'!E67+'FINANCE OVERHEAD COST F.xi'!E67+'WORKS OVERHEAD COST F.xi'!E67+'ESD OVERHEAD COST F.xi'!E67+'PHC OVERHEAD COST F.xi'!E67+'WATSAN OVERHEAD COST F.xi'!E67+'TRADITIONAL OVERHEAD COST F.xi'!E67 -> 400000
